BEGIN:VCALENDAR
VERSION:2.0
PRODID:-//Events for LONDON - ECPv6.15.20//NONSGML v1.0//EN
CALSCALE:GREGORIAN
METHOD:PUBLISH
X-ORIGINAL-URL:https://eventsforlondon.co.uk
X-WR-CALDESC:Events for Events for LONDON
REFRESH-INTERVAL;VALUE=DURATION:PT1H
X-Robots-Tag:noindex
X-PUBLISHED-TTL:PT1H
BEGIN:VTIMEZONE
TZID:Europe/London
BEGIN:DAYLIGHT
TZOFFSETFROM:+0000
TZOFFSETTO:+0100
TZNAME:BST
DTSTART:20170326T010000
END:DAYLIGHT
BEGIN:STANDARD
TZOFFSETFROM:+0100
TZOFFSETTO:+0000
TZNAME:GMT
DTSTART:20171029T010000
END:STANDARD
BEGIN:DAYLIGHT
TZOFFSETFROM:+0000
TZOFFSETTO:+0100
TZNAME:BST
DTSTART:20180325T010000
END:DAYLIGHT
BEGIN:STANDARD
TZOFFSETFROM:+0100
TZOFFSETTO:+0000
TZNAME:GMT
DTSTART:20181028T010000
END:STANDARD
BEGIN:DAYLIGHT
TZOFFSETFROM:+0000
TZOFFSETTO:+0100
TZNAME:BST
DTSTART:20190331T010000
END:DAYLIGHT
BEGIN:STANDARD
TZOFFSETFROM:+0100
TZOFFSETTO:+0000
TZNAME:GMT
DTSTART:20191027T010000
END:STANDARD
END:VTIMEZONE
BEGIN:VEVENT
DTSTART;TZID=Europe/London:20181017T180000
DTEND;TZID=Europe/London:20181017T220000
DTSTAMP:20260421T034240
CREATED:20181010T043559Z
LAST-MODIFIED:20181010T043559Z
UID:30047080-1539799200-1539813600@eventsforlondon.co.uk
SUMMARY:Experience Haiti in London
DESCRIPTION:Haiti is a huge history in London\, from the struggles to the freedom. Now Haiti also pronounced Ayiti is one of the most beautiful destinations to visit. With it’s rich culture\, heritage\, food\, music and more it is a remarkable Black Republic that made history. \nThe evening will include : \n\nHaitian inspired cuisine by Chef Daniel of the Grill Shack and Tiki Bar in Bournemouth\,\nHaitian music by celebrated Haitian DJ Sassia\nTraditional Haitian “Congo” dance by Mara Registre\nTraditional music by Haitian folk artitist Germa Adan\nA few words by Ian Thomson\, author of “Bonjour Blanc” – a book about Haiti. Ian proposed to his wife in Haiti and returned in 2014 to write a wonderful article for the Telegraph newspaper.\nA few words by the founder of Kafe 1788/Ayitian Coffee – Richard Macien who has opened a London cafe selling Haitian coffee\nA quiz on Haiti to help you learn and win some fabulous Haitian art and coffee\nHaitian art on display and for sale\nBarbancourt – celebrated Haitian rum for sale\n\n(Please note that in the event that one of the above people if unable to attend\, we will try our best to offer an alternative) \nYour TICKET includes a two course set menu meal\, a welcome Barbancourt and the above (subject to change) \nLimited places and prices go up closer to the date so do book today. \n 
URL:https://eventsforlondon.co.uk/event/experience-haiti-in-london/
LOCATION:Cottons\, Unit 12\, Flagship House St Georges Wharf\, London\, SW8 2LE\, United Kingdom
CATEGORIES:Entertainment,Festivals
ATTACH;FMTTYPE=image/jpeg:https://eventsforlondon.co.uk/wp-content/uploads/2018/10/https_2F2Fcdn.evbuc_.com2Fimages2F486490102F1628850182432F12Foriginal.jpg
GEO:51.4858743;-0.1264868
X-APPLE-STRUCTURED-LOCATION;VALUE=URI;X-ADDRESS=Cottons Unit 12 Flagship House St Georges Wharf London SW8 2LE United Kingdom;X-APPLE-RADIUS=500;X-TITLE=Unit 12\, Flagship House St Georges Wharf:geo:-0.1264868,51.4858743
END:VEVENT
END:VCALENDAR