BEGIN:VCALENDAR
VERSION:2.0
PRODID:-//Events for LONDON - ECPv6.15.20//NONSGML v1.0//EN
CALSCALE:GREGORIAN
METHOD:PUBLISH
X-WR-CALNAME:Events for LONDON
X-ORIGINAL-URL:https://eventsforlondon.co.uk
X-WR-CALDESC:Events for Events for LONDON
REFRESH-INTERVAL;VALUE=DURATION:PT1H
X-Robots-Tag:noindex
X-PUBLISHED-TTL:PT1H
BEGIN:VTIMEZONE
TZID:Europe/London
BEGIN:DAYLIGHT
TZOFFSETFROM:+0000
TZOFFSETTO:+0100
TZNAME:BST
DTSTART:20230326T010000
END:DAYLIGHT
BEGIN:STANDARD
TZOFFSETFROM:+0100
TZOFFSETTO:+0000
TZNAME:GMT
DTSTART:20231029T010000
END:STANDARD
BEGIN:DAYLIGHT
TZOFFSETFROM:+0000
TZOFFSETTO:+0100
TZNAME:BST
DTSTART:20240331T010000
END:DAYLIGHT
BEGIN:STANDARD
TZOFFSETFROM:+0100
TZOFFSETTO:+0000
TZNAME:GMT
DTSTART:20241027T010000
END:STANDARD
BEGIN:DAYLIGHT
TZOFFSETFROM:+0000
TZOFFSETTO:+0100
TZNAME:BST
DTSTART:20250330T010000
END:DAYLIGHT
BEGIN:STANDARD
TZOFFSETFROM:+0100
TZOFFSETTO:+0000
TZNAME:GMT
DTSTART:20251026T010000
END:STANDARD
END:VTIMEZONE
BEGIN:VEVENT
DTSTART;TZID=Europe/London:20240908T160000
DTEND;TZID=Europe/London:20240908T200000
DTSTAMP:20260420T213834
CREATED:20240904T033105Z
LAST-MODIFIED:20240904T033105Z
UID:30077097-1725811200-1725825600@eventsforlondon.co.uk
SUMMARY:Hackney Petanque Club - SUMMER JAM
DESCRIPTION:Join us for our Live Summer Jam! This Sunday we’re hosting an extra special tournament of boules with a live jam session from Doctor Gosso Collective! Whether you’re a seasoned pro or a complete newbie\, this event is perfect for all levels of players. Grab a drink\, meet new creative friends\, and enjoy a fun filled soiree of petanque in the heart of Hackney.
URL:https://eventsforlondon.co.uk/event/hackney-petanque-club-summer-jam/
LOCATION:London Fields Park\, 19 Martello Street\, London\, E8 3PE\, United Kingdom
CATEGORIES:Community Events,Entertainment,Events in London,Exercise,Free Events,Live Music,Music,Networking,Team Building
ATTACH;FMTTYPE=image/jpeg:https://eventsforlondon.co.uk/wp-content/uploads/2024/09/SUMMER_JAM.jpg
ORGANIZER;CN="Hackney Petanque Club":MAILTO:Hackneypetanqueclub@gmail.com
END:VEVENT
END:VCALENDAR