BEGIN:VCALENDAR
VERSION:2.0
PRODID:-//Events for LONDON - ECPv6.15.20//NONSGML v1.0//EN
CALSCALE:GREGORIAN
METHOD:PUBLISH
X-ORIGINAL-URL:https://eventsforlondon.co.uk
X-WR-CALDESC:Events for Events for LONDON
REFRESH-INTERVAL;VALUE=DURATION:PT1H
X-Robots-Tag:noindex
X-PUBLISHED-TTL:PT1H
BEGIN:VTIMEZONE
TZID:Europe/London
BEGIN:DAYLIGHT
TZOFFSETFROM:+0000
TZOFFSETTO:+0100
TZNAME:BST
DTSTART:20240331T010000
END:DAYLIGHT
BEGIN:STANDARD
TZOFFSETFROM:+0100
TZOFFSETTO:+0000
TZNAME:GMT
DTSTART:20241027T010000
END:STANDARD
BEGIN:DAYLIGHT
TZOFFSETFROM:+0000
TZOFFSETTO:+0100
TZNAME:BST
DTSTART:20250330T010000
END:DAYLIGHT
BEGIN:STANDARD
TZOFFSETFROM:+0100
TZOFFSETTO:+0000
TZNAME:GMT
DTSTART:20251026T010000
END:STANDARD
BEGIN:DAYLIGHT
TZOFFSETFROM:+0000
TZOFFSETTO:+0100
TZNAME:BST
DTSTART:20260329T010000
END:DAYLIGHT
BEGIN:STANDARD
TZOFFSETFROM:+0100
TZOFFSETTO:+0000
TZNAME:GMT
DTSTART:20261025T010000
END:STANDARD
END:VTIMEZONE
BEGIN:VEVENT
DTSTART;TZID=Europe/London:20250928T100000
DTEND;TZID=Europe/London:20250928T160000
DTSTAMP:20260424T101612
CREATED:20250923T152631Z
LAST-MODIFIED:20251004T035851Z
UID:30107795-1759053600-1759075200@eventsforlondon.co.uk
SUMMARY:Open Weekend at Glebelands Indoor Bowls Club
DESCRIPTION:Come join us for a fun-filled weekend in Finchley in North London\, where everyone is welcome to try indoor lawn bowls for free. \nWhether you’re a seasoned pro or a complete beginner\, this event is perfect for anyone looking to have a fun time and learn a new skill. We’ll have a free taster session\, friendly games\, free tea and coffee\, plus our cafe will be open to purchase snacks and meals all day. Our winter season starts 1st October so while you are here you can find out about all our membership options\, there is something to suit everyone – including Junior (17+)\, social and more. We’ve been getting people together to play bowls for 35 years\, together we’ve made a community and we’d love you to join us… just wear flat-soled shoes and we will provide the rest! (Just turn up or RSVP here )
URL:https://eventsforlondon.co.uk/event/open-weekend-at-glebelands-indoor-bowls-club/2025-09-28/
LOCATION:Glebelands Indoor Bowls Club\, Summers Lane\, Finchley\, N12 0PD\, United Kingdom
CATEGORIES:Community Events,Events in London,Family Activities,Free Events,Sports
ATTACH;FMTTYPE=image/jpeg:https://eventsforlondon.co.uk/wp-content/uploads/2025/09/glebelands-open-day-flyer_revised-e1758641163120.jpg
ORGANIZER;CN="Glebelands":MAILTO:glebelandsibc@gmail.com
END:VEVENT
END:VCALENDAR