BEGIN:VCALENDAR
VERSION:2.0
PRODID:-//Events for LONDON - ECPv6.15.20//NONSGML v1.0//EN
CALSCALE:GREGORIAN
METHOD:PUBLISH
X-ORIGINAL-URL:https://eventsforlondon.co.uk
X-WR-CALDESC:Events for Events for LONDON
REFRESH-INTERVAL;VALUE=DURATION:PT1H
X-Robots-Tag:noindex
X-PUBLISHED-TTL:PT1H
BEGIN:VTIMEZONE
TZID:Europe/London
BEGIN:DAYLIGHT
TZOFFSETFROM:+0000
TZOFFSETTO:+0100
TZNAME:BST
DTSTART:20210328T010000
END:DAYLIGHT
BEGIN:STANDARD
TZOFFSETFROM:+0100
TZOFFSETTO:+0000
TZNAME:GMT
DTSTART:20211031T010000
END:STANDARD
BEGIN:DAYLIGHT
TZOFFSETFROM:+0000
TZOFFSETTO:+0100
TZNAME:BST
DTSTART:20220327T010000
END:DAYLIGHT
BEGIN:STANDARD
TZOFFSETFROM:+0100
TZOFFSETTO:+0000
TZNAME:GMT
DTSTART:20221030T010000
END:STANDARD
BEGIN:DAYLIGHT
TZOFFSETFROM:+0000
TZOFFSETTO:+0100
TZNAME:BST
DTSTART:20230326T010000
END:DAYLIGHT
BEGIN:STANDARD
TZOFFSETFROM:+0100
TZOFFSETTO:+0000
TZNAME:GMT
DTSTART:20231029T010000
END:STANDARD
END:VTIMEZONE
BEGIN:VEVENT
DTSTART;TZID=Europe/London:20220616T191500
DTEND;TZID=Europe/London:20220616T210000
DTSTAMP:20260425T221759
CREATED:20220621T044322Z
LAST-MODIFIED:20220621T044322Z
UID:30059443-1655406900-1655413200@eventsforlondon.co.uk
SUMMARY:Highgate Festival author talk Carmel McConnell MBE "Change Activist: Make Big Things Happen Fast".
DESCRIPTION:As part of the Highgate Festival\, inspirational author and charity founder Carmel McConnell MBE\, will be giving an in-person and online talk about Change Activism\, how each one of us should become “a bit brave”\, not wait for politicians to sort the world’s problems out (e.g. climate change\, food poverty)\, but take action in our personal or work lives in line with our values. Drawing on her extraordinary life (as a Greenham Common protestor\, broadband pioneer\, entrepreneur and founder of children’s food charity Magic Breakfast) and the wisdom of global change leaders (e.g. Big Issue co-founder Lord John Bird and Kenyan education leader Qabale Duba)\, Carmel will energise and motivate the audience to explore their own change activist potential.
URL:https://eventsforlondon.co.uk/event/highgate-festival-author-talk-carmel-mcconnell-mbe-change-activist-make-big-things-happen-fast/
LOCATION:Highgate Library Civic & Cultural Centre\, Croftdown Road\, London\, NW5 1HB
CATEGORIES:Charity Events,Events in London,Free Events,Literature,Writers
ATTACH;FMTTYPE=image/jpeg:https://eventsforlondon.co.uk/wp-content/uploads/2022/06/9811827D-4231-4F66-B946-E69946931545-1.jpeg
ORGANIZER;CN="Friends of Highgate Library":MAILTO:fohl@dartmouthpark.org
GEO:51.5630264;-0.1442245
X-APPLE-STRUCTURED-LOCATION;VALUE=URI;X-ADDRESS=Highgate Library Civic & Cultural Centre Croftdown Road London NW5 1HB;X-APPLE-RADIUS=500;X-TITLE=Croftdown Road:geo:-0.1442245,51.5630264
END:VEVENT
END:VCALENDAR