BEGIN:VCALENDAR
VERSION:2.0
PRODID:-//Events for LONDON - ECPv6.15.20//NONSGML v1.0//EN
CALSCALE:GREGORIAN
METHOD:PUBLISH
X-ORIGINAL-URL:https://eventsforlondon.co.uk
X-WR-CALDESC:Events for Events for LONDON
REFRESH-INTERVAL;VALUE=DURATION:PT1H
X-Robots-Tag:noindex
X-PUBLISHED-TTL:PT1H
BEGIN:VTIMEZONE
TZID:Europe/London
BEGIN:DAYLIGHT
TZOFFSETFROM:+0000
TZOFFSETTO:+0100
TZNAME:BST
DTSTART:20180325T010000
END:DAYLIGHT
BEGIN:STANDARD
TZOFFSETFROM:+0100
TZOFFSETTO:+0000
TZNAME:GMT
DTSTART:20181028T010000
END:STANDARD
BEGIN:DAYLIGHT
TZOFFSETFROM:+0000
TZOFFSETTO:+0100
TZNAME:BST
DTSTART:20190331T010000
END:DAYLIGHT
BEGIN:STANDARD
TZOFFSETFROM:+0100
TZOFFSETTO:+0000
TZNAME:GMT
DTSTART:20191027T010000
END:STANDARD
BEGIN:DAYLIGHT
TZOFFSETFROM:+0000
TZOFFSETTO:+0100
TZNAME:BST
DTSTART:20200329T010000
END:DAYLIGHT
BEGIN:STANDARD
TZOFFSETFROM:+0100
TZOFFSETTO:+0000
TZNAME:GMT
DTSTART:20201025T010000
END:STANDARD
END:VTIMEZONE
BEGIN:VEVENT
DTSTART;TZID=Europe/London:20190428T140000
DTEND;TZID=Europe/London:20190428T223000
DTSTAMP:20260424T000704
CREATED:20190306T040609Z
LAST-MODIFIED:20190404T062018Z
UID:30052688-1556460000-1556490600@eventsforlondon.co.uk
SUMMARY:Fresh Out The Box
DESCRIPTION:On Sunday 28th of April 2019 \nFresh Out The Box Launches with a Amazing Line up DJs and producers to bring you the most upfront UK music from UK Garage\, House\, Bass and a Special Dubstep Set\, with our team pushing the Sound Forward\, with all music being less than 2 years old maximum. \nThis event will exclusively be broadcast via Flex FM Facebook Page (Flex TV) and a limited audience of 115 people can grab a FREE ticket to see this event at Work Bar. Please note 200 tickets will be issued\, so please arrive early as tickets DO NOT guarantee entry on arrival. \n\n\n \nHandpicked DJ’s and Producers for our Launch include \nMatt Jam Lamont\nMartin ‘Liberty’ Larner\nDanny Blaze (Album Showcase Set)\nSmokey ‘Bubblin’ B\nSoulecta\nNo F In Irony\nPerception \nDoors Open from 2pm and entry can only be gained with tickets. \nInfo: 07800 727 017 \n  \n  \nBook DJs for Parties
URL:https://eventsforlondon.co.uk/event/fresh-out-the-box/
LOCATION:Work Bar\, 3 Chapel Street market\, London\, N1 9EZ\, United Kingdom
CATEGORIES:Concerts,Free Events,Music,Teenagers
ATTACH;FMTTYPE=image/jpeg:https://eventsforlondon.co.uk/wp-content/uploads/2019/03/IMG_1458.jpg
ORGANIZER;CN="Fresh Out The Box":MAILTO:mrdblaze@hotmail.com
GEO:51.53349;-0.1106586
X-APPLE-STRUCTURED-LOCATION;VALUE=URI;X-ADDRESS=Work Bar 3 Chapel Street market London N1 9EZ United Kingdom;X-APPLE-RADIUS=500;X-TITLE=3 Chapel Street market:geo:-0.1106586,51.53349
END:VEVENT
END:VCALENDAR