BEGIN:VCALENDAR
VERSION:2.0
PRODID:-//Events for LONDON - ECPv6.15.20//NONSGML v1.0//EN
CALSCALE:GREGORIAN
METHOD:PUBLISH
X-WR-CALNAME:Events for LONDON
X-ORIGINAL-URL:https://eventsforlondon.co.uk
X-WR-CALDESC:Events for Events for LONDON
REFRESH-INTERVAL;VALUE=DURATION:PT1H
X-Robots-Tag:noindex
X-PUBLISHED-TTL:PT1H
BEGIN:VTIMEZONE
TZID:Europe/London
BEGIN:DAYLIGHT
TZOFFSETFROM:+0000
TZOFFSETTO:+0100
TZNAME:BST
DTSTART:20170326T010000
END:DAYLIGHT
BEGIN:STANDARD
TZOFFSETFROM:+0100
TZOFFSETTO:+0000
TZNAME:GMT
DTSTART:20171029T010000
END:STANDARD
BEGIN:DAYLIGHT
TZOFFSETFROM:+0000
TZOFFSETTO:+0100
TZNAME:BST
DTSTART:20180325T010000
END:DAYLIGHT
BEGIN:STANDARD
TZOFFSETFROM:+0100
TZOFFSETTO:+0000
TZNAME:GMT
DTSTART:20181028T010000
END:STANDARD
BEGIN:DAYLIGHT
TZOFFSETFROM:+0000
TZOFFSETTO:+0100
TZNAME:BST
DTSTART:20190331T010000
END:DAYLIGHT
BEGIN:STANDARD
TZOFFSETFROM:+0100
TZOFFSETTO:+0000
TZNAME:GMT
DTSTART:20191027T010000
END:STANDARD
END:VTIMEZONE
BEGIN:VEVENT
DTSTART;TZID=Europe/London:20181102T200000
DTEND;TZID=Europe/London:20181103T230000
DTSTAMP:20260421T130542
CREATED:20181015T030842Z
LAST-MODIFIED:20181015T032005Z
UID:30050490-1541188800-1541286000@eventsforlondon.co.uk
SUMMARY:Alexandra Palace Fireworks Festival 2018
DESCRIPTION:The Alexandra Palace Fireworks Festival is easily one of the biggest\, baddest displays in town! \nSee impressive fireworks exploding with a glittering panoramic view of London as its backdrop while munching on street food and drinking craft beer. \n \nTICKETS available for Fri(2nd Nov) and Sat(3rd Nov) \nIf you have already booked your entry tickets and wish to purchase Bier Festival or Ice Skating tickets please click here
URL:https://eventsforlondon.co.uk/event/alexandra-palace-fireworks-festival-2018/
LOCATION:Alexandra Palace Way\,\, London\, London\, N22 7\, United Kingdom
CATEGORIES:Drink Tasting,Entertainment,Family Activities
ATTACH;FMTTYPE=image/jpeg:https://eventsforlondon.co.uk/wp-content/uploads/2018/10/42450936_1238942666247567_8545936264119975936_n.jpg
GEO:51.5945845;-0.1302629
END:VEVENT
END:VCALENDAR