BEGIN:VCALENDAR
VERSION:2.0
PRODID:-//Events for LONDON - ECPv6.15.20//NONSGML v1.0//EN
CALSCALE:GREGORIAN
METHOD:PUBLISH
X-WR-CALNAME:Events for LONDON
X-ORIGINAL-URL:https://eventsforlondon.co.uk
X-WR-CALDESC:Events for Events for LONDON
REFRESH-INTERVAL;VALUE=DURATION:PT1H
X-Robots-Tag:noindex
X-PUBLISHED-TTL:PT1H
BEGIN:VTIMEZONE
TZID:Europe/London
BEGIN:DAYLIGHT
TZOFFSETFROM:+0000
TZOFFSETTO:+0100
TZNAME:BST
DTSTART:20220327T010000
END:DAYLIGHT
BEGIN:STANDARD
TZOFFSETFROM:+0100
TZOFFSETTO:+0000
TZNAME:GMT
DTSTART:20221030T010000
END:STANDARD
BEGIN:DAYLIGHT
TZOFFSETFROM:+0000
TZOFFSETTO:+0100
TZNAME:BST
DTSTART:20230326T010000
END:DAYLIGHT
BEGIN:STANDARD
TZOFFSETFROM:+0100
TZOFFSETTO:+0000
TZNAME:GMT
DTSTART:20231029T010000
END:STANDARD
BEGIN:DAYLIGHT
TZOFFSETFROM:+0000
TZOFFSETTO:+0100
TZNAME:BST
DTSTART:20240331T010000
END:DAYLIGHT
BEGIN:STANDARD
TZOFFSETFROM:+0100
TZOFFSETTO:+0000
TZNAME:GMT
DTSTART:20241027T010000
END:STANDARD
BEGIN:DAYLIGHT
TZOFFSETFROM:+0000
TZOFFSETTO:+0100
TZNAME:BST
DTSTART:20250330T010000
END:DAYLIGHT
BEGIN:STANDARD
TZOFFSETFROM:+0100
TZOFFSETTO:+0000
TZNAME:GMT
DTSTART:20251026T010000
END:STANDARD
BEGIN:DAYLIGHT
TZOFFSETFROM:+0000
TZOFFSETTO:+0100
TZNAME:BST
DTSTART:20260329T010000
END:DAYLIGHT
BEGIN:STANDARD
TZOFFSETFROM:+0100
TZOFFSETTO:+0000
TZNAME:GMT
DTSTART:20261025T010000
END:STANDARD
END:VTIMEZONE
BEGIN:VEVENT
DTSTART;TZID=Europe/London:20250517T103000
DTEND;TZID=Europe/London:20250517T190000
DTSTAMP:20260423T115922
CREATED:20250312T053931Z
LAST-MODIFIED:20250312T053932Z
UID:30090455-1747477800-1747508400@eventsforlondon.co.uk
SUMMARY:Cultural Style Week London Expo 2025: Where Fashion Meets Culture!
DESCRIPTION:Join us once again for a vibrant celebration of fashion and culture at The Mall Wood Green. \nExplore diverse trade stalls\, offering culturally diverse fashion and beauty items\, and enjoy cultural performances and multiple fashion shows featuring both emerging and established cultural designers. \nDon’t miss out on this exciting opportunity to experience the fusion of fashion and culture! \nFree Entry! \nGet Involved! \nVendors & Exhibitors – Showcase and sell culturally inspired fashion and beauty products while connecting with a diverse audience. \nPerformers – Whether you are a dancer\, singer\, or cultural performer\, this is your opportunity to share your artistry and heritage. \nFor more information visit: www.culturalstyleweek.com/expo.
URL:https://eventsforlondon.co.uk/event/cultural-style-week-london-expo-2025-where-fashion-meets-culture/
LOCATION:The Mall\, Wood Green\, 159 High Road\, London\, N22 6YQ
CATEGORIES:Community Events,Events in London,Exhibitions,Fashion,Free Events
ATTACH;FMTTYPE=image/png:https://eventsforlondon.co.uk/wp-content/uploads/2025/03/Cultural-Style-Week-Expo-9.png
END:VEVENT
BEGIN:VEVENT
DTSTART;VALUE=DATE:20240521
DTEND;VALUE=DATE:20240528
DTSTAMP:20260423T115922
CREATED:20240405T085514Z
LAST-MODIFIED:20240405T085514Z
UID:30066902-1716249600-1716854399@eventsforlondon.co.uk
SUMMARY:Cultural Style Week
DESCRIPTION:Join the global celebration of cultural heritage during Cultural Style Week\, May 21-27!  \nCultural Style Week is a dynamic movement created to celebrate the beauty of culture through fashion. It’s that one week in a year when we invite people from all backgrounds to proudly embrace and ‘wear their heritage’. From May 21 to 27 each year\, individuals worldwide are encouraged to participate by donning their cultural attire and sharing their vibrant expressions online using the hashtag #CulturalStyleWeek. \nTake part in this empowering event to honor your ancestry\, express your individuality\, and unite with others in celebrating cultural diversity. Whether you wear a sari\, a kimono\, a dashiki\, or any other traditional attire\, your choice sends a powerful message of pride and inclusivity. Join us in embracing cultural diversity through the universal language of style. Let’s celebrate our heritage together!  \nLearn more and join the movement at Culturalstyleweek.com
URL:https://eventsforlondon.co.uk/event/cultural-style-week/2024-05-21/1/
LOCATION:Online
CATEGORIES:Events in London,Fashion
ATTACH;FMTTYPE=image/png:https://eventsforlondon.co.uk/wp-content/uploads/2024/04/Group-Image-Large--e1712307306201.png
GEO:51.5136899;-0.1414866
END:VEVENT
BEGIN:VEVENT
DTSTART;TZID=Europe/London:20240518T103000
DTEND;TZID=Europe/London:20240518T183000
DTSTAMP:20260423T115922
CREATED:20240405T085651Z
LAST-MODIFIED:20240405T085651Z
UID:30066901-1716028200-1716057000@eventsforlondon.co.uk
SUMMARY:Cultural Style Week London Expo: Where Fashion Meets Culture!
DESCRIPTION:Cultural Style Week London Expo: Where Fashion Meets Culture! \nJoin us for a vibrant celebration of fashion and culture at The Mall Wood Green. \nExplore over 60 diverse trade stalls\, offering culturally diverse fashion and beauty items\, and enjoy cultural performances and multiple fashion shows featuring both emerging and established cultural designers. \nDon’t miss out on this exciting opportunity to experience the fusion of fashion and culture! \nThis ‘free entry’ event is destined to become the inaugural flagship expo event in London for the burgeoning international movement and you can be a part of it! \n​Traders\, exhibitors\, and designers\, please click here to view the information pack.
URL:https://eventsforlondon.co.uk/event/cultural-style-week-london-expo-where-fashion-meets-culture/
LOCATION:Mall Wood Green\, 159 High Rd\, London\, N22 6YQ
CATEGORIES:Events in London,Fashion,People
ATTACH;FMTTYPE=image/jpeg:https://eventsforlondon.co.uk/wp-content/uploads/2024/04/Blog-Banner-Images-News-Posts-1-e1712307342310.jpg
END:VEVENT
BEGIN:VEVENT
DTSTART;TZID=Europe/London:20230524T190000
DTEND;TZID=Europe/London:20230524T210000
DTSTAMP:20260423T115922
CREATED:20230419T102527Z
LAST-MODIFIED:20230419T102534Z
UID:30060099-1684954800-1684962000@eventsforlondon.co.uk
SUMMARY:The Story Behind My Caribbean Style - Cultural Style Week Screening
DESCRIPTION:A Cultural Style Week special screening of ‘The Story Behind My Caribbean Cultural Style’ with Q&A and shopping! \n\n\n\nIn ‘The Story Behind My Caribbean Cultural Style’ docu-film\, Jennifer Laurent-Smart expands on her ‘Cultural Style Week’ campaign video and provides further insight into the story behind her Caribbean cultural identity and how she expresses it through fashion. \n\n\n\nFeaturing archive footage and additional interviewees\, the documentary also explores the origin of Creole Caribbean traditional Madras clothing\, its links to India\, Africa\, slavery and its use today. \n\n\n\nAfter the screening\, attendees can purchase wonderful Madras clothing and accessories by Sakafet London and participate in a Q&A session with Jennifer Laurent-Smart and the docu-film director Candy-Ellie Graham. \n\n\n\nThe event will take place at the iconic Africa Centre in Southwark\, London. The go-to place for pan-African food\, music\, art\, culture and thought leadership! \n\n\n\nThere are limited tickets available! So don’t miss out.
URL:https://eventsforlondon.co.uk/event/the-story-behind-my-caribbean-style-cultural-style-week-screening/
LOCATION:The Africa Centre\, 66 Great Suffolk Street\, London\, SE1 0BL\, United Kingdom
CATEGORIES:Arts,Community Events,Conversation,Education,Events in London,Fashion,Films,Free Events,Society
ATTACH;FMTTYPE=image/jpeg:https://eventsforlondon.co.uk/wp-content/uploads/2023/04/Capture-1.jpg
END:VEVENT
BEGIN:VEVENT
DTSTART;TZID=Europe/London:20230514T120000
DTEND;TZID=Europe/London:20230514T180000
DTSTAMP:20260423T115922
CREATED:20230217T073041Z
LAST-MODIFIED:20230219T034251Z
UID:30059944-1684065600-1684087200@eventsforlondon.co.uk
SUMMARY:Cultural Fashion & Beauty Pop-Up
DESCRIPTION:Buy culturally diverse fashion and beauty items for Cultural Style Week and beyond!\n\n\n\n\n\nEstablished in May 2022\, The London-birthed Cultural Style Week movement is a visual celebration of cultural diversity. From 21-27 May\, people worldwide can participate by proudly wearing their heritage and sharing their pictures on social media\, using the tag #culturalstyleweek.\n\n\n\n\n\nOur pre-week shopping event is an opportunity for people to buy culturally diverse fashion and beauty items for Cultural Style Week and beyond! Come and enjoy good music\, culture and good vibes!\n\n\n\n\n\nDiscover different cultural fashions\, speak to our vendors and learn about fashion’s role in different cultures. Buy fashion\, hair and beauty products from talented UK-based artisans.\n\n\n\n\n\nEXHIBIT\n\n\n\n\n\nWe still have some stalls left and are looking for brands that have ready-to-buy\, culturally relevant fashion\, hair\, and beauty products with affordable price points.\n\n\n\n\n\nEarly bird discounts for exhibitors until 30 March⁠ ☀️⁠For more info\, please see > https://www.culturalstyleweek.com/collaborate or email events@culturalstyleweek.com\n\n\n\n\n\nCULTURAL STYLE WEEK EVENTS\n\n\n\n\n\nThe week-long #CulturalStyleWeek celebration through to 27 May includes a schedule of educational and inspiring events\, including fashion shows\, exhibitions\, workshops\, marketplaces and talks. For more info please visit http://www.culturalstyleweek.com\n\n\n\n\n\nYou can also take part by hosting your national dress celebrations and proudly wearing your cultural styles across the week of 21-27 May. Don’t forget to share your pictures online with the tag #culturalstyleweek
URL:https://eventsforlondon.co.uk/event/cultural-fashion-beauty-pop-up/
LOCATION:Green Rooms Gallery Space 13-27 Station Road London N22 6UW United Kingdom\, Green Rooms Gallery Space 13-27\, Station Road London\, N22 6UW
CATEGORIES:Community Events,Events in London,Family Activities,Fashion,Free Events,Pop Up
ATTACH;FMTTYPE=image/png:https://eventsforlondon.co.uk/wp-content/uploads/2023/02/CULTURAL-FASHION-BEAUTY-POP-UP-SUNDAY-14-MAY-2023.png
GEO:51.5969679;-0.1107931
X-APPLE-STRUCTURED-LOCATION;VALUE=URI;X-ADDRESS=Green Rooms Gallery Space 13-27 Station Road London N22 6UW United Kingdom Green Rooms Gallery Space 13-27 Station Road London N22 6UW;X-APPLE-RADIUS=500;X-TITLE=Green Rooms Gallery Space 13-27:geo:-0.1107931,51.5969679
END:VEVENT
END:VCALENDAR