BEGIN:VCALENDAR
VERSION:2.0
PRODID:-//Events for LONDON - ECPv6.15.20//NONSGML v1.0//EN
CALSCALE:GREGORIAN
METHOD:PUBLISH
X-WR-CALNAME:Events for LONDON
X-ORIGINAL-URL:https://eventsforlondon.co.uk
X-WR-CALDESC:Events for Events for LONDON
REFRESH-INTERVAL;VALUE=DURATION:PT1H
X-Robots-Tag:noindex
X-PUBLISHED-TTL:PT1H
BEGIN:VTIMEZONE
TZID:Europe/London
BEGIN:DAYLIGHT
TZOFFSETFROM:+0000
TZOFFSETTO:+0100
TZNAME:BST
DTSTART:20170326T010000
END:DAYLIGHT
BEGIN:STANDARD
TZOFFSETFROM:+0100
TZOFFSETTO:+0000
TZNAME:GMT
DTSTART:20171029T010000
END:STANDARD
BEGIN:DAYLIGHT
TZOFFSETFROM:+0000
TZOFFSETTO:+0100
TZNAME:BST
DTSTART:20180325T010000
END:DAYLIGHT
BEGIN:STANDARD
TZOFFSETFROM:+0100
TZOFFSETTO:+0000
TZNAME:GMT
DTSTART:20181028T010000
END:STANDARD
BEGIN:DAYLIGHT
TZOFFSETFROM:+0000
TZOFFSETTO:+0100
TZNAME:BST
DTSTART:20190331T010000
END:DAYLIGHT
BEGIN:STANDARD
TZOFFSETFROM:+0100
TZOFFSETTO:+0000
TZNAME:GMT
DTSTART:20191027T010000
END:STANDARD
BEGIN:DAYLIGHT
TZOFFSETFROM:+0000
TZOFFSETTO:+0100
TZNAME:BST
DTSTART:20200329T010000
END:DAYLIGHT
BEGIN:STANDARD
TZOFFSETFROM:+0100
TZOFFSETTO:+0000
TZNAME:GMT
DTSTART:20201025T010000
END:STANDARD
BEGIN:DAYLIGHT
TZOFFSETFROM:+0000
TZOFFSETTO:+0100
TZNAME:BST
DTSTART:20210328T010000
END:DAYLIGHT
BEGIN:STANDARD
TZOFFSETFROM:+0100
TZOFFSETTO:+0000
TZNAME:GMT
DTSTART:20211031T010000
END:STANDARD
BEGIN:DAYLIGHT
TZOFFSETFROM:+0000
TZOFFSETTO:+0100
TZNAME:BST
DTSTART:20220327T010000
END:DAYLIGHT
BEGIN:STANDARD
TZOFFSETFROM:+0100
TZOFFSETTO:+0000
TZNAME:GMT
DTSTART:20221030T010000
END:STANDARD
BEGIN:DAYLIGHT
TZOFFSETFROM:+0000
TZOFFSETTO:+0100
TZNAME:BST
DTSTART:20230326T010000
END:DAYLIGHT
BEGIN:STANDARD
TZOFFSETFROM:+0100
TZOFFSETTO:+0000
TZNAME:GMT
DTSTART:20231029T010000
END:STANDARD
BEGIN:DAYLIGHT
TZOFFSETFROM:+0000
TZOFFSETTO:+0100
TZNAME:BST
DTSTART:20240331T010000
END:DAYLIGHT
BEGIN:STANDARD
TZOFFSETFROM:+0100
TZOFFSETTO:+0000
TZNAME:GMT
DTSTART:20241027T010000
END:STANDARD
BEGIN:DAYLIGHT
TZOFFSETFROM:+0000
TZOFFSETTO:+0100
TZNAME:BST
DTSTART:20250330T010000
END:DAYLIGHT
BEGIN:STANDARD
TZOFFSETFROM:+0100
TZOFFSETTO:+0000
TZNAME:GMT
DTSTART:20251026T010000
END:STANDARD
END:VTIMEZONE
BEGIN:VEVENT
DTSTART;TZID=Europe/London:20240915T110000
DTEND;TZID=Europe/London:20240915T160000
DTSTAMP:20260421T213351
CREATED:20240911T061455Z
LAST-MODIFIED:20240911T061546Z
UID:30077137-1726398000-1726416000@eventsforlondon.co.uk
SUMMARY:Open House Festival: The British Academy
DESCRIPTION:The London-wide Open House Festival celebrates the city’s most exciting architecture. The British Academy’s beautiful Grade I-listed\, John Nash-designed townhouse will open its doors with historical\, art\, and architectural tours. Guided tours will be offered by Academy staff\, and pre-booked tours with the prestigious Wright & Wright Architects\, who have thoughtfully re-designed the space. Visitors can also explore the building at their own pace\, using the new digital guide by Bloomberg Connects. \nThere will be a free digital photography exhibition\, the first ever ‘British Academy Book Prize Photography Exhibition’\, commissioned in response to last year’s British Academy Book Prize winner. Arko Datto\, an award-winning photographer based in India\, has been commissioned by Panos Pictures to visually interpret the 2023 Book Prize-winning book Courting India: England\, Mughal India and the Origins of Empire by Nandini Das through a contemporary lens. \nThe British Academy’s sister academy for science\, The Royal Society\, located a stone’s throw from The British Academy\, will also open its doors for the Open House Festival\, allowing a unique opportunity to visit the historic headquarters of two centuries-old institutions of knowledge and research.
URL:https://eventsforlondon.co.uk/event/open-house-festival-the-british-academy/
LOCATION:The British Academy\, 10-11 Carlton House Terrace\, London\, SW1Y 5AH\, United Kingdom
CATEGORIES:Architecture,Arts,Events in London,Exhibitions,Festivals,History
ATTACH;FMTTYPE=image/jpeg:https://eventsforlondon.co.uk/wp-content/uploads/2024/09/British-Academy-Carlton-House-Terrace-e1725989063602.jpg
GEO:51.5063517;-0.1311843
X-APPLE-STRUCTURED-LOCATION;VALUE=URI;X-ADDRESS=The British Academy 10-11 Carlton House Terrace London SW1Y 5AH United Kingdom;X-APPLE-RADIUS=500;X-TITLE=10-11 Carlton House Terrace:geo:-0.1311843,51.5063517
END:VEVENT
BEGIN:VEVENT
DTSTART;TZID=Europe/London:20211207T160000
DTEND;TZID=Europe/London:20211207T170000
DTSTAMP:20260421T213351
CREATED:20211212T060857Z
LAST-MODIFIED:20211212T060857Z
UID:30058746-1638892800-1638896400@eventsforlondon.co.uk
SUMMARY:Leaders in SHAPE: Roy Foster
DESCRIPTION:Marking 100 years since the signing of the Anglo-Irish Treaty\, historian Roy Foster talks to Richard English about his life\, career and the making of modern Ireland. \nBorn and educated in Waterford\, Roy Foster read history at Trinity College Dublin and has held posts at Birkbeck\, Oxford and Princeton. One of the foremost historians of modern Ireland\, in 1991\, he became Carroll Professor of Irish History at the University of Oxford\, the first endowed chair of Irish history in Britain\, a post he held until 2017. The chair is now named after him. \nHis seminal work Modern Ireland 1600-1972 is essential reading for anyone seeking to understand the history of Ireland and Irish identity. His book Vivid Faces the revolutionary generation in Ireland 1890-1923 charts the colourful lives of Ireland’s revolutionary generation\, exploring how bohemian idealism underpinned the independence movement in the lead-up to the Easter Rising in 1916 and the Anglo-Irish Treaty of 1921. \nIn addition to his work as a historian\, Foster has also written biographies of WB Yeats and Seamus Heaney; the latter was published last year. \nJoin the conversation online\, too\, using the hashtag #ThisIsSHAPE. \nSpeaker: Professor Roy Foster FBA\, Emeritus Professor of Irish History\, University of Oxford; Emeritus Professor of Irish History and Literature\, Queen Mary University of London \nChair: Professor Richard English FBA\, Director of the Senator George J. Mitchell Institute for Global Peace\, Security and Justice and Professor of Politics\, Queen’s University Belfast \nFree booking required
URL:https://eventsforlondon.co.uk/event/leaders-in-shape-roy-foster/
LOCATION:The British Academy\, 10-11 Carlton House Terrace\, London\, SW1Y 5AH\, United Kingdom
CATEGORIES:Conversation,Events in London,Free Events,History,Literature,Online Events,People,Virtual Events
ATTACH;FMTTYPE=image/jpeg:https://eventsforlondon.co.uk/wp-content/uploads/2021/11/Roy_Foster.original_xtOoeIC.jpg
GEO:51.5063517;-0.1311843
X-APPLE-STRUCTURED-LOCATION;VALUE=URI;X-ADDRESS=The British Academy 10-11 Carlton House Terrace London SW1Y 5AH United Kingdom;X-APPLE-RADIUS=500;X-TITLE=10-11 Carlton House Terrace:geo:-0.1311843,51.5063517
END:VEVENT
BEGIN:VEVENT
DTSTART;TZID=Europe/London:20180622T110000
DTEND;TZID=Europe/London:20180623T170000
DTSTAMP:20260421T213351
CREATED:20230821T174814Z
LAST-MODIFIED:20230821T174814Z
UID:30047092-1529665200-1529773200@eventsforlondon.co.uk
SUMMARY:British Academy Summer Showcase
DESCRIPTION:The British Academy Summer Showcase is coming to you. Cure your curiosity with theses amazing hands on elements such as text panels\, interactive elements and audio visual displays. 15 exhibits will be showcased that are created by academics funded through the British Academy. Researches will be presenting their projects and auditions are welcome to take part in hands-on activities. \nThe SUMMER SHOWCASE has many activities throughout the day.
URL:https://eventsforlondon.co.uk/event/british-academy-summer-showcase/
LOCATION:Carlton House Terrace\, 10-11 Carlton House Terrace\, St. James's\, London SW1Y 5AH\, London\, United Kingdom
ATTACH;FMTTYPE=image/jpeg:https://eventsforlondon.co.uk/wp-content/uploads/2018/06/British-Academy-Summer-Showcase-Poster.jpg
GEO:51.5063517;-0.1311843
X-APPLE-STRUCTURED-LOCATION;VALUE=URI;X-ADDRESS=Carlton House Terrace 10-11 Carlton House Terrace St. James's London SW1Y 5AH London United Kingdom;X-APPLE-RADIUS=500;X-TITLE=10-11 Carlton House Terrace\, St. James's\, London SW1Y 5AH:geo:-0.1311843,51.5063517
END:VEVENT
END:VCALENDAR