BEGIN:VCALENDAR
VERSION:2.0
PRODID:-//Events for LONDON - ECPv6.15.20//NONSGML v1.0//EN
CALSCALE:GREGORIAN
METHOD:PUBLISH
X-ORIGINAL-URL:https://eventsforlondon.co.uk
X-WR-CALDESC:Events for Events for LONDON
REFRESH-INTERVAL;VALUE=DURATION:PT1H
X-Robots-Tag:noindex
X-PUBLISHED-TTL:PT1H
BEGIN:VTIMEZONE
TZID:Europe/London
BEGIN:DAYLIGHT
TZOFFSETFROM:+0000
TZOFFSETTO:+0100
TZNAME:BST
DTSTART:20200329T010000
END:DAYLIGHT
BEGIN:STANDARD
TZOFFSETFROM:+0100
TZOFFSETTO:+0000
TZNAME:GMT
DTSTART:20201025T010000
END:STANDARD
BEGIN:DAYLIGHT
TZOFFSETFROM:+0000
TZOFFSETTO:+0100
TZNAME:BST
DTSTART:20210328T010000
END:DAYLIGHT
BEGIN:STANDARD
TZOFFSETFROM:+0100
TZOFFSETTO:+0000
TZNAME:GMT
DTSTART:20211031T010000
END:STANDARD
BEGIN:DAYLIGHT
TZOFFSETFROM:+0000
TZOFFSETTO:+0100
TZNAME:BST
DTSTART:20220327T010000
END:DAYLIGHT
BEGIN:STANDARD
TZOFFSETFROM:+0100
TZOFFSETTO:+0000
TZNAME:GMT
DTSTART:20221030T010000
END:STANDARD
END:VTIMEZONE
BEGIN:VEVENT
DTSTART;TZID=Europe/London:20211204T100000
DTEND;TZID=Europe/London:20211204T160000
DTSTAMP:20260421T194635
CREATED:20211130T190622Z
LAST-MODIFIED:20211130T190902Z
UID:30058025-1638612000-1638633600@eventsforlondon.co.uk
SUMMARY:The Assembly London Christmas Market 2021
DESCRIPTION:A seasonal market celebrating the best of London independent brands and makers.\nThe Assembly Christmas Market brings together a community of our favourite London makers and creators – all unique in their own space but similar in the values of quality\, purpose and craft. We’ll welcome sewists\, jewellers\, ceramicists\, botanical scientists and designers to exhibit their hand-crafted pieces. And Assembly’s coffee\, wine and beer will be served up by some of the local area’s finest providers. \nThe exhibitors include: \nKikina Designs is a London-based print and graphic designer originally from Moscow\, Russia. Her inspiration is drawn from Russian culture\, the arts\, and 1990s aesthetics. All artworks are unique\, one-of-a-kind pieces\, and all prints are painted by hand. \nSoka Linens is Sonya Karlsson\, a Norwegian born\, London-based sewist. She creates pieces for everyday use from materials that have specific functional purposes in the home and utilises sustainable fabrics which incorporate unique variations in texture. ​She sources fabrics locally to her home in south London\, where all items are hand-cut and sewn. \nMonta Monta was founded in 2015 by cosmetic scientist Montague Ashley-Craig\, and creates multi-functional and refillable botanical skincare products. Many formulations use hyper-locally sourced and waste raw materials from east London\, where the brand is based and the products created. \nLondon-based potters founded klei; Jessica Joslin and Skye Corewijn in 2018. Klei (meaning clay) celebrates and represents local makers of hand-thrown ceramics. Here\, you’ll find bowls\, jugs\, vases\, plates\, and other small pieces from makers from around London and beyond. \n​Easthope Studio is a London-based jeweller who creates pieces using eco or recycled base metals. Since the age of seven\, they’ve been making jewellery\, foraging for sea glass on Brighton beach and scouring local charity shops. They offer pieces to create small\, personally curated collections with the ethos of buying less and buying better. \nLutiki is a family-run business specialising in hand-crafted garments for babies and mothers. Knitted with age-old methods passed down through generations\, all pieces are created with quality\, natural materials. \nFour Boroughs is a south London speciality coffee company founded in 2017 with their first shop in Crystal Palace. Quickly becoming a favourite for local coffee enthusiasts and keen road cyclists alike with their excellent coffee\, delectable food and welcoming atmosphere\, they opened their second shop in Loughborough Junction in 2020. \nHooks and Clips were founded by artist Katja Chernova who sources and restores unique and rare vintage Christmas ornaments. She also creates seasonal greetings cards and wrapping papers which will also be available on the day of the market.
URL:https://eventsforlondon.co.uk/event/the-assembly-london-christmas-market-2021/
LOCATION:Coldhabour Works\, 245A Coldharbour Lane\, London\, SW9 8RR
CATEGORIES:Arts,Christmas Events,Christmas Shopping,Crafts,Events in London,Free Events,Sculpture,Shopping
ATTACH;FMTTYPE=image/jpeg:https://eventsforlondon.co.uk/wp-content/uploads/2021/11/Assembly-Coffee-Christmas-Market.jpg
ORGANIZER;CN="Assembly Coffee":MAILTO:info@assemblycoffee.co.uk
GEO:51.4648132;-0.1027857
X-APPLE-STRUCTURED-LOCATION;VALUE=URI;X-ADDRESS=Coldhabour Works 245A Coldharbour Lane London SW9 8RR;X-APPLE-RADIUS=500;X-TITLE=245A Coldharbour Lane:geo:-0.1027857,51.4648132
END:VEVENT
END:VCALENDAR