BEGIN:VCALENDAR
VERSION:2.0
PRODID:-//Events for LONDON - ECPv6.15.20//NONSGML v1.0//EN
CALSCALE:GREGORIAN
METHOD:PUBLISH
X-WR-CALNAME:Events for LONDON
X-ORIGINAL-URL:https://eventsforlondon.co.uk
X-WR-CALDESC:Events for Events for LONDON
REFRESH-INTERVAL;VALUE=DURATION:PT1H
X-Robots-Tag:noindex
X-PUBLISHED-TTL:PT1H
BEGIN:VTIMEZONE
TZID:Europe/London
BEGIN:DAYLIGHT
TZOFFSETFROM:+0000
TZOFFSETTO:+0100
TZNAME:BST
DTSTART:20230326T010000
END:DAYLIGHT
BEGIN:STANDARD
TZOFFSETFROM:+0100
TZOFFSETTO:+0000
TZNAME:GMT
DTSTART:20231029T010000
END:STANDARD
BEGIN:DAYLIGHT
TZOFFSETFROM:+0000
TZOFFSETTO:+0100
TZNAME:BST
DTSTART:20240331T010000
END:DAYLIGHT
BEGIN:STANDARD
TZOFFSETFROM:+0100
TZOFFSETTO:+0000
TZNAME:GMT
DTSTART:20241027T010000
END:STANDARD
BEGIN:DAYLIGHT
TZOFFSETFROM:+0000
TZOFFSETTO:+0100
TZNAME:BST
DTSTART:20250330T010000
END:DAYLIGHT
BEGIN:STANDARD
TZOFFSETFROM:+0100
TZOFFSETTO:+0000
TZNAME:GMT
DTSTART:20251026T010000
END:STANDARD
END:VTIMEZONE
BEGIN:VEVENT
DTSTART;TZID=Europe/London:20240210T190000
DTEND;TZID=Europe/London:20240210T210000
DTSTAMP:20260420T194732
CREATED:20231229T160402Z
LAST-MODIFIED:20231229T160402Z
UID:30063663-1707591600-1707598800@eventsforlondon.co.uk
SUMMARY:Two Rounds
DESCRIPTION:“Thursday we play cards. Best day of the week. Sunday\, I dream of Thursday”. \n\n\nItaly\, 1960s. Claudia\, Gabriella\, Sofia\, and Beatrice meet weekly to play cards\, discuss their marriages\, and shuffle the deck of life. Fast forward thirty years\, their daughters gather after a funeral\, and the cycle repeats. But has anything changed? \n\n\nWritten by Oscar-nominee Cristina Comencini\, a searing new translation from Aida Rocci brings the flavour\, passion\, and authenticity of a story that has captivated Italy for decades to the UK for the first time. \nA Jermyn Street Theatre and Aslant Theatre Company Co-production
URL:https://eventsforlondon.co.uk/event/two-rounds/2024-02-10/
LOCATION:Jermyn Street Theatre\, 16b Jermyn Street\, London\, SW1Y 6ST
CATEGORIES:Events in London,London Theatre,Performing Arts
ATTACH;FMTTYPE=image/png:https://eventsforlondon.co.uk/wp-content/uploads/2023/12/TWO-ROUNDS-800-x-600-px.png
ORGANIZER;CN="Aslant Theatre Company":MAILTO:aslanttheatre@gmail.com
END:VEVENT
END:VCALENDAR