BEGIN:VCALENDAR
VERSION:2.0
PRODID:-//Events for LONDON - ECPv6.15.20//NONSGML v1.0//EN
CALSCALE:GREGORIAN
METHOD:PUBLISH
X-ORIGINAL-URL:https://eventsforlondon.co.uk
X-WR-CALDESC:Events for Events for LONDON
REFRESH-INTERVAL;VALUE=DURATION:PT1H
X-Robots-Tag:noindex
X-PUBLISHED-TTL:PT1H
BEGIN:VTIMEZONE
TZID:Europe/London
BEGIN:DAYLIGHT
TZOFFSETFROM:+0000
TZOFFSETTO:+0100
TZNAME:BST
DTSTART:20170326T010000
END:DAYLIGHT
BEGIN:STANDARD
TZOFFSETFROM:+0100
TZOFFSETTO:+0000
TZNAME:GMT
DTSTART:20171029T010000
END:STANDARD
BEGIN:DAYLIGHT
TZOFFSETFROM:+0000
TZOFFSETTO:+0100
TZNAME:BST
DTSTART:20180325T010000
END:DAYLIGHT
BEGIN:STANDARD
TZOFFSETFROM:+0100
TZOFFSETTO:+0000
TZNAME:GMT
DTSTART:20181028T010000
END:STANDARD
BEGIN:DAYLIGHT
TZOFFSETFROM:+0000
TZOFFSETTO:+0100
TZNAME:BST
DTSTART:20190331T010000
END:DAYLIGHT
BEGIN:STANDARD
TZOFFSETFROM:+0100
TZOFFSETTO:+0000
TZNAME:GMT
DTSTART:20191027T010000
END:STANDARD
END:VTIMEZONE
BEGIN:VEVENT
DTSTART;TZID=Europe/London:20181109T183000
DTEND;TZID=Europe/London:20181113T200000
DTSTAMP:20260423T203331
CREATED:20181109T101153Z
LAST-MODIFIED:20181109T101153Z
UID:30047169-1541788200-1542139200@eventsforlondon.co.uk
SUMMARY:Sated: Hoax Purveyors and Whistleblowers
DESCRIPTION:“Sated” is a programme of four-panel discussions curated by a/political in collaboration with the Goldsmiths Visual Cultures Society at Goldsmiths\, University of London. \n“Sated” examines the deteriorating effect of the rhetoric of success and the smugness that comes with it; characteristic for the current profit-driven economy\, on a critical assessment of social reality. For the second panel from the series\, we have invited our guests to discuss the impact that whistleblowers and citizen journalists have on the current media and visual arts landscape\, the challenges that they are facing\, as well as the existing UK legislation that allows to prosecute and protect those who decide to blow a whistle. \nInvited Speakers:\n– Crofton Black\, Researcher\, Journalist and Writer\n– Edmund Clark\, Artist\n– Matt Kennard\, Researcher\, Journalist and Writer\n– Bob Matheson\, Head of Advice and Advocacy\, Protect\n– Andrei Molodkin\, Artist\n– Samatha Prosser\, Solicitor\, BDBF\n– Behrang Tajdin\, Journalist\, Reporter\, BBC Persian \nThis discussion will be moderated by Dr Sylwia Serafinowicz (Curator\, a/political) \nRoom: Ian Gulland Lecture Theatre\, Whitehead Building\, Goldsmiths\, University of London \nFuture events from the “Sated” series:\n11 December ’18 – Order and Disorder\n12 February ’19 – Food: Excess and Sustainability \nImage: Interior of Boeing 737 N787WH\, operated by Victory Aviation\, taken in Salzburg on 15 February 2005 as it awaited departure orders. Published in Black\, C & Clark\, E 2015\, Negative Publicity Artefacts of Extraordinary Rendition\, Aperture: New York.
URL:https://eventsforlondon.co.uk/event/sated-hoax-purveyors-and-whistleblowers/
LOCATION:Ian Gulland Lecture Theatre\, Whitehead Building\,\, Goldsmiths\, University of London\, London\, SE14 6NW\, United Kingdom
CATEGORIES:Conferences,Free Events,Politics,Visual Arts
ATTACH;FMTTYPE=image/png:https://eventsforlondon.co.uk/wp-content/uploads/2018/11/Redacted.png
GEO:51.474271;-0.035408
X-APPLE-STRUCTURED-LOCATION;VALUE=URI;X-ADDRESS=Ian Gulland Lecture Theatre Whitehead Building Goldsmiths University of London London SE14 6NW United Kingdom;X-APPLE-RADIUS=500;X-TITLE=Whitehead Building\,\, Goldsmiths\, University of London:geo:-0.035408,51.474271
END:VEVENT
END:VCALENDAR