BEGIN:VCALENDAR
VERSION:2.0
PRODID:-//Events for LONDON - ECPv6.15.20//NONSGML v1.0//EN
CALSCALE:GREGORIAN
METHOD:PUBLISH
X-ORIGINAL-URL:https://eventsforlondon.co.uk
X-WR-CALDESC:Events for Events for LONDON
REFRESH-INTERVAL;VALUE=DURATION:PT1H
X-Robots-Tag:noindex
X-PUBLISHED-TTL:PT1H
BEGIN:VTIMEZONE
TZID:Europe/London
BEGIN:DAYLIGHT
TZOFFSETFROM:+0000
TZOFFSETTO:+0100
TZNAME:BST
DTSTART:20250330T010000
END:DAYLIGHT
BEGIN:STANDARD
TZOFFSETFROM:+0100
TZOFFSETTO:+0000
TZNAME:GMT
DTSTART:20251026T010000
END:STANDARD
BEGIN:DAYLIGHT
TZOFFSETFROM:+0000
TZOFFSETTO:+0100
TZNAME:BST
DTSTART:20260329T010000
END:DAYLIGHT
BEGIN:STANDARD
TZOFFSETFROM:+0100
TZOFFSETTO:+0000
TZNAME:GMT
DTSTART:20261025T010000
END:STANDARD
BEGIN:DAYLIGHT
TZOFFSETFROM:+0000
TZOFFSETTO:+0100
TZNAME:BST
DTSTART:20270328T010000
END:DAYLIGHT
BEGIN:STANDARD
TZOFFSETFROM:+0100
TZOFFSETTO:+0000
TZNAME:GMT
DTSTART:20271031T010000
END:STANDARD
END:VTIMEZONE
BEGIN:VEVENT
DTSTART;TZID=Europe/London:20260625T200000
DTEND;TZID=Europe/London:20260625T220000
DTSTAMP:20260422T022734
CREATED:20260414T130057Z
LAST-MODIFIED:20260414T130057Z
UID:30125151-1782417600-1782424800@eventsforlondon.co.uk
SUMMARY:«stadtklang» w/ NATALIE LINDI | Live @ Ruby Lucy London
DESCRIPTION:NATALIE LINDI \nNatalie Lindi is an emerging artist who has been steadily gaining attention and accolades from those who have encountered her music and performances. She was crowned winner of the national Open Mic UK competition in 2019\, competing against 10\,000 applicants\, and winning “Best Song” 3 times in the same year. She went on to become a recipient of the UK’s prestigious MOBO Awards “Unsung Class of 2022” and featured on the MOBO Unsung album released through Marshall Amp’s label. \nBorn and raised in North West London\, and borrowing sounds from her South African heritage\, Lindi’s songwriting blends a variety of musical influences. Her use of soulful melodies has drawn comparison to songwriters such as Lianne La Havas and Tori Kelly\, with her vocal range and captivating tone inspired by Minnie Riperton and Nina Simone. \nNatalie is currently a featured vocalist for Jazztronica duo – Blue Lab Beats – and made appearances with them at the iconic Glastonbury festival\, Jazzaldia in Spain\, and KOKO Camden. \nNatalie has performed extensively around the UK including Ronnie Scotts\, the Great Escape festival\, O2 Indigo\, in addition to European performances including the Altersonic festival in the Netherlands. She has performed alongside Bruno Major and has received support from BBC Radio One and Introducing\, and also performed alongside rising star Lola Young at 5G festival. \nThursady June 25 202\, 20 Uhr\nRuby Lucy Hotel & Bar\nLower Marsh\nSE1 7RA London
URL:https://eventsforlondon.co.uk/event/stadtklang-w-natalie-lindi-live-ruby-lucy-london/
LOCATION:Ruby Lucy Hotel & Bar London\, Lower Marsh\, London\, SE1 7RA
CATEGORIES:Concerts,Free Events,Live Music,Music
ATTACH;FMTTYPE=image/png:https://eventsforlondon.co.uk/wp-content/uploads/2026/04/2026_06_25-Natalie-Lindi.png
END:VEVENT
END:VCALENDAR