BEGIN:VCALENDAR
VERSION:2.0
PRODID:-//Events for LONDON - ECPv6.15.20//NONSGML v1.0//EN
CALSCALE:GREGORIAN
METHOD:PUBLISH
X-ORIGINAL-URL:https://eventsforlondon.co.uk
X-WR-CALDESC:Events for Events for LONDON
REFRESH-INTERVAL;VALUE=DURATION:PT1H
X-Robots-Tag:noindex
X-PUBLISHED-TTL:PT1H
BEGIN:VTIMEZONE
TZID:Europe/London
BEGIN:DAYLIGHT
TZOFFSETFROM:+0000
TZOFFSETTO:+0100
TZNAME:BST
DTSTART:20170326T010000
END:DAYLIGHT
BEGIN:STANDARD
TZOFFSETFROM:+0100
TZOFFSETTO:+0000
TZNAME:GMT
DTSTART:20171029T010000
END:STANDARD
BEGIN:DAYLIGHT
TZOFFSETFROM:+0000
TZOFFSETTO:+0100
TZNAME:BST
DTSTART:20180325T010000
END:DAYLIGHT
BEGIN:STANDARD
TZOFFSETFROM:+0100
TZOFFSETTO:+0000
TZNAME:GMT
DTSTART:20181028T010000
END:STANDARD
BEGIN:DAYLIGHT
TZOFFSETFROM:+0000
TZOFFSETTO:+0100
TZNAME:BST
DTSTART:20190331T010000
END:DAYLIGHT
BEGIN:STANDARD
TZOFFSETFROM:+0100
TZOFFSETTO:+0000
TZNAME:GMT
DTSTART:20191027T010000
END:STANDARD
BEGIN:DAYLIGHT
TZOFFSETFROM:+0000
TZOFFSETTO:+0100
TZNAME:BST
DTSTART:20200329T010000
END:DAYLIGHT
BEGIN:STANDARD
TZOFFSETFROM:+0100
TZOFFSETTO:+0000
TZNAME:GMT
DTSTART:20201025T010000
END:STANDARD
BEGIN:DAYLIGHT
TZOFFSETFROM:+0000
TZOFFSETTO:+0100
TZNAME:BST
DTSTART:20210328T010000
END:DAYLIGHT
BEGIN:STANDARD
TZOFFSETFROM:+0100
TZOFFSETTO:+0000
TZNAME:GMT
DTSTART:20211031T010000
END:STANDARD
BEGIN:DAYLIGHT
TZOFFSETFROM:+0000
TZOFFSETTO:+0100
TZNAME:BST
DTSTART:20220327T010000
END:DAYLIGHT
BEGIN:STANDARD
TZOFFSETFROM:+0100
TZOFFSETTO:+0000
TZNAME:GMT
DTSTART:20221030T010000
END:STANDARD
BEGIN:DAYLIGHT
TZOFFSETFROM:+0000
TZOFFSETTO:+0100
TZNAME:BST
DTSTART:20230326T010000
END:DAYLIGHT
BEGIN:STANDARD
TZOFFSETFROM:+0100
TZOFFSETTO:+0000
TZNAME:GMT
DTSTART:20231029T010000
END:STANDARD
BEGIN:DAYLIGHT
TZOFFSETFROM:+0000
TZOFFSETTO:+0100
TZNAME:BST
DTSTART:20240331T010000
END:DAYLIGHT
BEGIN:STANDARD
TZOFFSETFROM:+0100
TZOFFSETTO:+0000
TZNAME:GMT
DTSTART:20241027T010000
END:STANDARD
BEGIN:DAYLIGHT
TZOFFSETFROM:+0000
TZOFFSETTO:+0100
TZNAME:BST
DTSTART:20250330T010000
END:DAYLIGHT
BEGIN:STANDARD
TZOFFSETFROM:+0100
TZOFFSETTO:+0000
TZNAME:GMT
DTSTART:20251026T010000
END:STANDARD
BEGIN:DAYLIGHT
TZOFFSETFROM:+0000
TZOFFSETTO:+0100
TZNAME:BST
DTSTART:20260329T010000
END:DAYLIGHT
BEGIN:STANDARD
TZOFFSETFROM:+0100
TZOFFSETTO:+0000
TZNAME:GMT
DTSTART:20261025T010000
END:STANDARD
BEGIN:DAYLIGHT
TZOFFSETFROM:+0000
TZOFFSETTO:+0100
TZNAME:BST
DTSTART:20270328T010000
END:DAYLIGHT
BEGIN:STANDARD
TZOFFSETFROM:+0100
TZOFFSETTO:+0000
TZNAME:GMT
DTSTART:20271031T010000
END:STANDARD
END:VTIMEZONE
BEGIN:VEVENT
DTSTART;TZID=Europe/London:20251231T190000
DTEND;TZID=Europe/London:20260123T003000
DTSTAMP:20260424T221813
CREATED:20260103T100313Z
LAST-MODIFIED:20260103T100313Z
UID:30112743-1767207600-1769128200@eventsforlondon.co.uk
SUMMARY:Bollywood Meets Hollywood NYE 2026 London
DESCRIPTION:Step into a world of cinematic glamour this New Year’s Eve as Bollywood meets Hollywood in a high-energy fusion celebration. Taking place at London’s iconic Dockside Vaults\, the event features top DJs\, immersive lighting\, and an unforgettable party atmosphere to welcome 2026 in style. \nWith a powerful soundtrack blending Bollywood hits\, Hollywood chart-toppers\, fusion remixes\, and a special NYE countdown\, guests can expect a vibrant night filled with dancing\, music\, and cinematic flair. \nBook your tickets now – https://www.events.plumpotmedia.com/
URL:https://eventsforlondon.co.uk/event/bollywood-meets-hollywood-nye-2026-london/
CATEGORIES:Live Music,Music
ATTACH;FMTTYPE=image/jpeg:https://eventsforlondon.co.uk/wp-content/uploads/2025/12/Event-unreal-1-1-e1767434574141.jpg
END:VEVENT
BEGIN:VEVENT
DTSTART;TZID=Europe/London:20251231T190000
DTEND;TZID=Europe/London:20260101T030000
DTSTAMP:20260424T221813
CREATED:20251209T141423Z
LAST-MODIFIED:20251209T141423Z
UID:30112742-1767207600-1767236400@eventsforlondon.co.uk
SUMMARY:New Year's Karaoke Presented by Fat Gay Vegan
DESCRIPTION:This isn’t just any party. It’s an all-out vegan celebration filled with music\, food\, and fun that will take you right into 2026 with a bang. \nWhat’s in store? \nFrom 7pm until 3am\, the doors are open to welcome you to an unforgettable night. \nThe Karamel kitchen will be taking dinner orders until 10pm and selling hearty bar snacks and sweet treats right through to the early hours. With every food and drink option being fully vegan\, it’s an inclusive feast for everyone! \nMy event offers the best of all worlds: \nDedicated karaoke space for those ready to belt out their favorite tunes and bring on the NYE energy Dining room to enjoy hearty vegan cuisine with friends Board games in the lounge area throughout the evening Whether you’re in the mood to sing\, dance\, or just soak up the feel-good vibes\, this is a New Year’s Eve party you won’t want to miss. So grab your friends\, bring your best energy\, and let’s welcome the new year together in true Fat Gay Vegan style! \nTickets are limited. Reserve yours now to be part of an NYE party that’s got it all. Tickets are for entry only. All food and drink is extra cost but there is no obligation or minimum order. \nTickets are £15 in advance. If space is available on the night\, tickets will be £20 on the door.
URL:https://eventsforlondon.co.uk/event/new-years-karaoke-presented-by-fat-gay-vegan/
LOCATION:karamel N22\, 4 Coburg Road\,\, Wood Green\, London\, N22 6UJ.
CATEGORIES:Arts,Entertainment,Events in London,Music,Party
ATTACH;FMTTYPE=image/jpeg:https://eventsforlondon.co.uk/wp-content/uploads/2025/12/2025-12-31-new-years-karaoke-presented-by-fat-gay-vegan-karamel.jpeg
END:VEVENT
BEGIN:VEVENT
DTSTART;TZID=Europe/London:20241231T180000
DTEND;TZID=Europe/London:20250101T030000
DTSTAMP:20260424T221813
CREATED:20241219T095423Z
LAST-MODIFIED:20241219T095455Z
UID:30086897-1735668000-1735700400@eventsforlondon.co.uk
SUMMARY:New Years Eve - White Wonderland Party
DESCRIPTION:Get ready for the ultimate New Year’s Eve bash! Step into a world of dazzling glitz and glamour at our White Wonderland celebration and countdown to 2025 in style. With 4 hours of bottomless drinks and a mouthwatering buffet to fuel the fun\, the night is set to be unforgettable. There’s no better place to ring in the new year! Tickets start at just £12—don’t wait\, grab yours before they’re gone!
URL:https://eventsforlondon.co.uk/event/new-years-eve-white-wonderland-party/
LOCATION:Burlock London\, 31 Duke Street\, London\, W1U 1LG
CATEGORIES:Christmas Events,Events in London,Party
ATTACH;FMTTYPE=image/jpeg:https://eventsforlondon.co.uk/wp-content/uploads/2024/12/white-wonder-land-low-Gb.jpg
ORGANIZER;CN="Burlock London":MAILTO:reservations@burlocklondon.co.uk
END:VEVENT
BEGIN:VEVENT
DTSTART;TZID=Europe/London:20240106T150000
DTEND;TZID=Europe/London:20240106T180000
DTSTAMP:20260424T221813
CREATED:20231220T133031Z
LAST-MODIFIED:20231220T133031Z
UID:30063344-1704553200-1704564000@eventsforlondon.co.uk
SUMMARY:'Visionarios'\, Draw your future workshop
DESCRIPTION:Welcome to your future!\nStart 2024 by bringing in your New Year’s resolutions and creating a Mind Map for your life.\nVisionaries will help you manifest your dreams and goals. No drawing experience is required! \nThe artist Cristina Guitian\, who specialises in visual metaphors and the subconscious\, invites you to join a journey of self-discovery through drawing. You can expect a playful day of art and writing\, focusing on yourself\, your wishes and your goals. \nYou will: \n*Be guided on ways to combine drawing and writing and create visual metaphors\n*Enjoy freedom and creativity on the paper through exercises and techniques like Surrealist automatism\n*Make room to explore your wishes from a different angle\, reaching a little bit further into your subconscious\n*Connect and share with other participants to create a collective journey / or choose to be private \n*Create your own Mind Map artwork
URL:https://eventsforlondon.co.uk/event/visionarios-draw-your-future-workshop/
LOCATION:TripSpace\, Railway Arch 339\, Acton Mews\,\, Haggerston\, London\, E8 4EA\, United Kingdom
CATEGORIES:Christmas Shopping,Events in London,Men's Health,Religion and Spirituality,Visual Arts,Women's Health,Workshops
ATTACH;FMTTYPE=image/jpeg:https://eventsforlondon.co.uk/wp-content/uploads/2023/12/visionarios-poster-rectangular-e1703078940923.jpg
GEO:51.536831;-0.075856
X-APPLE-STRUCTURED-LOCATION;VALUE=URI;X-ADDRESS=TripSpace Railway Arch 339 Acton Mews Haggerston London E8 4EA United Kingdom;X-APPLE-RADIUS=500;X-TITLE=Railway Arch 339\, Acton Mews\,:geo:-0.075856,51.536831
END:VEVENT
BEGIN:VEVENT
DTSTART;TZID=Europe/London:20221231T210000
DTEND;TZID=Europe/London:20230101T000000
DTSTAMP:20260424T221813
CREATED:20221205T155210Z
LAST-MODIFIED:20221214T151755Z
UID:30059798-1672520400-1672531200@eventsforlondon.co.uk
SUMMARY:NYE W/ TEN BELLS RAG BAND
DESCRIPTION:// PLAQLOCK PRESENTS // \nA JAZZ EXTRAVAGANZA WITH THE INCREDIBLE\, 5-PIECE\, TEN BELLS RAG BAND. \nExpect an energetic performance from this talented ensemble to start 2023 the right way! [9pm-midnight] \nJoin us for Louisiana Creole & Cajun food\, British beers & New Orleans cocktails.\nBook tables & tickets here: https://www.sevenrooms.com/reservations/plaqueminelock?default_date=2022-12-31 \n 
URL:https://eventsforlondon.co.uk/event/nye-w-ten-bells-rag-band/
LOCATION:Plaquemine Lock\, Angel Islington\, 139 Graham St\, N1 9LB
CATEGORIES:Entertainment,Events in London,Gigs,Live Music,Music
ATTACH;FMTTYPE=image/png:https://eventsforlondon.co.uk/wp-content/uploads/2022/12/2023.png
GEO:51.532637;-0.10055
X-APPLE-STRUCTURED-LOCATION;VALUE=URI;X-ADDRESS=Plaquemine Lock Angel Islington 139 Graham St N1 9LB;X-APPLE-RADIUS=500;X-TITLE=139 Graham St:geo:-0.10055,51.532637
END:VEVENT
BEGIN:VEVENT
DTSTART;TZID=Europe/London:20211231T190000
DTEND;TZID=Europe/London:20220101T030000
DTSTAMP:20260424T221813
CREATED:20211022T202836Z
LAST-MODIFIED:20211022T202838Z
UID:30058434-1640977200-1641006000@eventsforlondon.co.uk
SUMMARY:The London New Year's Eve Ball 2021
DESCRIPTION:New Years Eve Party in London\nJoin us for an all-inclusive Après Ski-themed New Year’s Eve party in the heart of Battersea Park with breathtaking scenery\, sumptuous food\, and mesmerising entertainment: the magic ingredients for an unforgettable New Year. \nWhat’s included?\n– SPARKLING WINE AND CANAPÉ RECEPTION\n– DELICIOUS FOUR-COURSE BANQUET BY SMART HOSPITALITY\n– UNLIMITED HOUSE BEER\, WINE AND SOFT DRINKS ALL NIGHT\n– STUNNING APRÉS THEMING\n– BREATHTAKING ENTERTAINMENT\n– ADRENALINE-PUMPING DODGEMS\n– LIVE STREAMING OF LONDON’S WORLD-FAMOUS FIREWORK DISPLAY\n– CLOAKROOM FACILITIES\n– FREE CAR PARKING\n– DEDICATED BLACK CAB RANK\n– FREE SHUTTLE BUS TO LONDON VICTORIA AFTER MIDNIGHT \nRing in the bells surrounded by twenty-foot Christmas trees and fabulous copper chandeliers towering overhead as blizzards of snow cascade down upon our luxurious alpine scene. High-energy entertainment fills the room as you soak up the atmosphere and enjoy delicious canapés and ice-cold drinks. \nAlongside four beautifully designed courses\, you will be stunned by our spectacular après show before you take to the dance floor yourself as the DJ starts their set. \nWhy not kick off 2022 in style?\nYour all-inclusive ticket costs just £190pp. To find out more\, visit; https://www.smartparties.co.uk/new-years-eve-parties-london/ or give our expert team a call on 020 7836 1033.
URL:https://eventsforlondon.co.uk/event/the-london-new-years-eve-ball-2021/
LOCATION:Evolution London\, SW8 4NW\, Evolution London\, Chelsea Bridge Entrance\, Battersea Park\, London\, SW8 4NW\, United Kingdom
CATEGORIES:Community Events,Events in London,Pop Up,Recreation
ATTACH;FMTTYPE=image/png:https://eventsforlondon.co.uk/wp-content/uploads/2021/10/39_Design-my-night-Header-1.png
ORGANIZER;CN="Smart Group Ltd":MAILTO:enquiries@smartgroupltd.co.uk
GEO:51.4808333;-0.1552778
X-APPLE-STRUCTURED-LOCATION;VALUE=URI;X-ADDRESS=Evolution London SW8 4NW Evolution London Chelsea Bridge Entrance Battersea Park London SW8 4NW United Kingdom;X-APPLE-RADIUS=500;X-TITLE=Evolution London\, Chelsea Bridge Entrance\, Battersea Park:geo:-0.1552778,51.4808333
END:VEVENT
BEGIN:VEVENT
DTSTART;TZID=Europe/London:20191231T220000
DTEND;TZID=Europe/London:20200101T220000
DTSTAMP:20260424T221813
CREATED:20191125T023420Z
LAST-MODIFIED:20191217T032551Z
UID:30054510-1577829600-1577916000@eventsforlondon.co.uk
SUMMARY:Deaf Rave Presents 2019 NYE Party
DESCRIPTION:Bringing the good vibrations to Colours for one last 2019 knees up\, we’re delighted to have the partystarters from Deaf Rave taking over all three rooms for a New Year’s Eve spectacular! Although we’ll be ringing in the new year with friends from across the international D/deaf and disabled communities\, everybody is welcome. Plus some of the proceeds raised by ticket sales will be donated to the British Society for Mental Health and Deafness – so it’s partying for a good cause!
URL:https://eventsforlondon.co.uk/event/deaf-rave-presents-2019-nye-party/
LOCATION:Colours Hoxton\, 2-4 Hoxton Square\, Hackney\, London\, N1 6NU
CATEGORIES:Holidays,Live Music
ATTACH;FMTTYPE=image/jpeg:https://eventsforlondon.co.uk/wp-content/uploads/2019/11/IMG_2137.jpg
GEO:51.5275228;-0.081933
X-APPLE-STRUCTURED-LOCATION;VALUE=URI;X-ADDRESS=Colours Hoxton 2-4 Hoxton Square Hackney London N1 6NU;X-APPLE-RADIUS=500;X-TITLE=2-4 Hoxton Square\, Hackney:geo:-0.081933,51.5275228
END:VEVENT
BEGIN:VEVENT
DTSTART;TZID=Europe/London:20191231T210000
DTEND;TZID=Europe/London:20200101T210000
DTSTAMP:20260424T221813
CREATED:20191212T011151Z
LAST-MODIFIED:20191217T030301Z
UID:30054440-1577826000-1577912400@eventsforlondon.co.uk
SUMMARY:New Year's Eve Ceilidh - Balham
DESCRIPTION:Fiddle Paradiddle have been bringing the Hogmanay Hootenanny to Sout London for the last seven years\, and in 2019 it’s going to be bigger and better than ever! \nHosted in the beautiful St Thomas’ Church\, this year’s Hootenanny will feature all the traditional dances and some special new ones for the night. All of Fiddle Paradiddle are expert callers and will guide you through the steps before accompanying your dancing with our rowdy folk tunes! \nOur pop-up bar will be stocked a selection of tasty tasty beer and cider\, wine and bubbles\, as well as an exciting array of whisky and gins. \nAnd this year we’ve added a candy bar\, giving you that sugar boost you need to get you all the way through to 2020! \nSo join Fiddle Paradiddle as we count down to the new year\, sing Auld Lang Syne\, and welcome 2020 the only way we know how – by having the best night out in Balham with your nearest\, dearest\, and sweatiest friends.
URL:https://eventsforlondon.co.uk/event/new-years-eve-ceilidh-balham/
LOCATION:St Thomas Church\, Telford Avenue\, Balham\, SW2 4XW
CATEGORIES:Dance,Live Music,Pop Up
ATTACH;FMTTYPE=image/png:https://eventsforlondon.co.uk/wp-content/uploads/2019/12/NYE2019-1540px-optimised1.png
ORGANIZER;CN="Fiddle Paradiddle":MAILTO:alasdair@fiddleparadiddle.com
GEO:51.4416203;-0.1350191
X-APPLE-STRUCTURED-LOCATION;VALUE=URI;X-ADDRESS=St Thomas Church Telford Avenue Balham SW2 4XW;X-APPLE-RADIUS=500;X-TITLE=Telford Avenue:geo:-0.1350191,51.4416203
END:VEVENT
BEGIN:VEVENT
DTSTART;TZID=Europe/London:20191231T210000
DTEND;TZID=Europe/London:20200101T050000
DTSTAMP:20260424T221813
CREATED:20191209T043435Z
LAST-MODIFIED:20191217T032327Z
UID:30053726-1577826000-1577854800@eventsforlondon.co.uk
SUMMARY:STEPPIN' OUT NYE ALLNIGHTER
DESCRIPTION:The legendary Steppin’ Out NYE Allnighter at the Mascara Bar – Once the Christmas malarky’s done it’s time for some proper adult fun!! \nYear 7 of the Mascara Bar’s NYE Northern Soul Allnighter! Originally under the auspices of Dugout Soul Club now Steppin’ Out\, it’s the 4th year the DJ team of Ian Jackson\, Glen Goodwin & Jonathan Dabner have spun 8 solid hours of deep soul dance tunes right through the time barrier! \nAce selecters spinning OVO Rare\, Northern & 60’s Soul\, Rhythm & Blues\, Motown\, Boogaloo\, Mod Jazz\, Ska…. \nDon’t get no better – the free admission policy holds + strictly no NYE bar price-hike! Ain’t no comparison – nowhere – no way! This party is exceptional fun. Blow ya freakin’ brains into the stratosphere of 2020!! Roar into them 20s! \nTime Travel:\nMore night buses than you can shake a stick at!\nRail: Stoke Newington\nBus: 67/73/N73/76/N76/106/149/243/276/393/476\nt: 07751 205323\ne: info@mascarabar.co.uk
URL:https://eventsforlondon.co.uk/event/steppin-out-nye-allnighter/
LOCATION:Mascara Bar\, 72 Stamford Hill\, London\, N16 6XS\, United Kingdom
CATEGORIES:Dance,Free Events,Music
ATTACH;FMTTYPE=image/jpeg:https://eventsforlondon.co.uk/wp-content/uploads/2019/12/web-version-Stepping-Out-NYE-poster-2020-72dpi.jpg
ORGANIZER;CN="Steppin' Out":MAILTO:jondabner@clara.co.uk
GEO:51.5668132;-0.0726607
X-APPLE-STRUCTURED-LOCATION;VALUE=URI;X-ADDRESS=Mascara Bar 72 Stamford Hill London N16 6XS United Kingdom;X-APPLE-RADIUS=500;X-TITLE=72 Stamford Hill:geo:-0.0726607,51.5668132
END:VEVENT
BEGIN:VEVENT
DTSTART;VALUE=DATE:20191227
DTEND;VALUE=DATE:20191228
DTSTAMP:20260424T221813
CREATED:20191218T043655Z
LAST-MODIFIED:20191218T045231Z
UID:30054542-1577404800-1577491199@eventsforlondon.co.uk
SUMMARY:BASHMENT vs SOCA - NEW YEARS CARNIVAL PARTY
DESCRIPTION:LETS END THE YEAR THE RIGHT WAY! \nLondon’s Biggest Bashment & Soca Party Bringing Non-Stop Carnival Vibez All Night! \nThis DECEMBER get ready for an unforgettable night with all your favourite Bashment\, Dancehall & Soca Tunes with a hint of Hip Hop/Rnb! \nThis is guaranteed to completely SELL OUT again! So get your tickets FAST! \nThe most popular event for Bashment & Soca lovers in London! \n \nDJs On The Night: \nDJ Daggastar \nDJ Larni \nDJ Vibez \nDJ Teeshow \nDJ Shortman \nDJ Fete \nKyle Shyne \nManny Dimes \nSpookz \n+ Many More \n\n  \n\n\nBirthday Deals\, Table Bookings and More Info:\nCall/WhatsApp: 07799084645 \nEmail: Info@Lifestyle-Events.co.uk \n  \nDress code: Fancy Dress or Smart Casual \nLadies: Sexy & Stylish \nGuys: Fresh \nNo Hats / No Hoods / No Sportswear \n> Strictly over 18’s only. ID required for entry. \n> No Refund Policy unless event is cancelled. \n> Tickets are non-transferable. R.O.A.R. Re-Entry is discretionary. \nDoors close at 2AM | No re-entry\, you may be charged again. \n[fusion_button link=”https://www.eventbrite.com/e/bashment-vs-soca-new-years-carnival-party-tickets-86225297185?aff=erelexpmlt&#8221; text_transform=”” title=”” target=”_self” link_attributes=”” alignment=”” modal=”” hide_on_mobile=”small-visibility\,medium-visibility\,large-visibility” class=”” id=”” s2id_autogen16=”” s2id_autogen16_search=”” color=”default” button_gradient_top_color=”” button_gradient_bottom_color=”” button_gradient_top_color_hover=”” button_gradient_bottom_color_hover=”” accent_color=”” accent_hover_color=”” type=”” bevel_color=”” border_width=”” border_radius=”” border_color=”” border_hover_color=”” size=”” stretch=”default” icon=”” icon_position=”left” icon_divider=”no” s2id_autogen17=”” s2id_autogen17_search=”” animation_type=”” animation_direction=”left” animation_speed=”0.3″ s2id_autogen18=”” s2id_autogen18_search=”” animation_offset=””]Tickets[/fusion_button]
URL:https://eventsforlondon.co.uk/event/bashment-vs-soca-new-years-carnival-party/
LOCATION:Revolution London – America Square\, 1 America Square\, London\, EC3N 2LS\, United Kingdom
CATEGORIES:Entertainment,Food & Drink
ATTACH;FMTTYPE=image/jpeg:https://eventsforlondon.co.uk/wp-content/uploads/2019/12/basement-vs.jpg
ORGANIZER;CN="Invasion Parties":MAILTO:info@shoobs.com
GEO:51.5113831;-0.0761494
X-APPLE-STRUCTURED-LOCATION;VALUE=URI;X-ADDRESS=Revolution London – America Square 1 America Square London EC3N 2LS United Kingdom;X-APPLE-RADIUS=500;X-TITLE=1 America Square:geo:-0.0761494,51.5113831
END:VEVENT
BEGIN:VEVENT
DTSTART;TZID=Europe/London:20181231T220000
DTEND;TZID=Europe/London:20190101T030000
DTSTAMP:20260424T221813
CREATED:20181226T173916Z
LAST-MODIFIED:20191217T032638Z
UID:30051090-1546293600-1546311600@eventsforlondon.co.uk
SUMMARY:'Bring It All Back' & 'Abba VS Queen' New Years Eve Party
DESCRIPTION:Pick a room and enjoy the night! \nRoom 1 : ‘Bring it All Back’ (best 80\, 90s & 00s throwback) \nRoom 2: ABBA vs QUEEN”. (The ultimate ABBA vs QUEEN party with DJ’s playing ABBA \, Queen and more) \nYou can go to 2 parties all with the price of 1 and party the night away. Expect heaps of confetti and a huge countdown to midnight! \nTickets start from only £10 and includes FREE ENTRY to the first Bring It All Back of 2019 on January 11th. We strongly advise to get your tickets for this early as our past two NYE events sold out in advance.
URL:https://eventsforlondon.co.uk/event/bring-it-all-back-abba-vs-queen-new-years-eve-party/
LOCATION:229 the Venue\, 229 Great Portland Street\,\, London\, W1W 5PN\, United Kingdom
CATEGORIES:Food & Drink,People
ATTACH;FMTTYPE=image/jpeg:https://eventsforlondon.co.uk/wp-content/uploads/2018/12/45005209_2213068695631852_371743605745778688_o.jpg
GEO:51.523568;-0.144821
X-APPLE-STRUCTURED-LOCATION;VALUE=URI;X-ADDRESS=229 the Venue 229 Great Portland Street London W1W 5PN United Kingdom;X-APPLE-RADIUS=500;X-TITLE=229 Great Portland Street\,:geo:-0.144821,51.523568
END:VEVENT
END:VCALENDAR