BEGIN:VCALENDAR
VERSION:2.0
PRODID:-//Events for LONDON - ECPv6.15.20//NONSGML v1.0//EN
CALSCALE:GREGORIAN
METHOD:PUBLISH
X-ORIGINAL-URL:https://eventsforlondon.co.uk
X-WR-CALDESC:Events for Events for LONDON
REFRESH-INTERVAL;VALUE=DURATION:PT1H
X-Robots-Tag:noindex
X-PUBLISHED-TTL:PT1H
BEGIN:VTIMEZONE
TZID:Europe/London
BEGIN:DAYLIGHT
TZOFFSETFROM:+0000
TZOFFSETTO:+0100
TZNAME:BST
DTSTART:20250330T010000
END:DAYLIGHT
BEGIN:STANDARD
TZOFFSETFROM:+0100
TZOFFSETTO:+0000
TZNAME:GMT
DTSTART:20251026T010000
END:STANDARD
BEGIN:DAYLIGHT
TZOFFSETFROM:+0000
TZOFFSETTO:+0100
TZNAME:BST
DTSTART:20260329T010000
END:DAYLIGHT
BEGIN:STANDARD
TZOFFSETFROM:+0100
TZOFFSETTO:+0000
TZNAME:GMT
DTSTART:20261025T010000
END:STANDARD
BEGIN:DAYLIGHT
TZOFFSETFROM:+0000
TZOFFSETTO:+0100
TZNAME:BST
DTSTART:20270328T010000
END:DAYLIGHT
BEGIN:STANDARD
TZOFFSETFROM:+0100
TZOFFSETTO:+0000
TZNAME:GMT
DTSTART:20271031T010000
END:STANDARD
END:VTIMEZONE
BEGIN:VEVENT
DTSTART;TZID=Europe/London:20260422T183000
DTEND;TZID=Europe/London:20260422T230000
DTSTAMP:20260421T194744
CREATED:20260330T163152Z
LAST-MODIFIED:20260330T163153Z
UID:30123085-1776882600-1776898800@eventsforlondon.co.uk
SUMMARY:Kpop showcase KTAM UNLEASHED
DESCRIPTION:We are hosting 6 kpop shows in London and Brighton\, which’ll be the first kpop showcase in a series called ‘KTAM Unleashed.’ These shows are designed to create unique intimate experiences with kpop artists. The shows will be in intimate venues\, and each ticket holder will be able to attend a fan-sign and Polaroid event after the shows\, where they can meet the artists and take photos and get their signatures. We are also offering VIP add-on packages for the dedicated kpop fans. These experiences are aimed to be affordable and unforgettable\, bringing real kpop VIP experiences to the UK\, which has never been done before in this capacity. \nWe have 5 Korean artists spanned over the 6 shows\, who will all be bringing hypnotic performances of different kinds to the UK for the first time. We have a ballad duo called Studio L\, a dance kpop group called N TOP and a dance kpop group called Daychild\, a kpop/krock soloist who has a unique charismatic voice and dance style\, and our special guest and MC for the shows\, Jinu\, who also has a special performance for the UK audience with his awe-inspiring power vocals. We are aimed for all ages\, there are some venues where the age limit is 8+ meaning kpop demon hunters enthusiasts (and parents) can join in on the fun too!! We’ve made sure to have various genres within kpop\, with a rock and ballad vibe too\, meaning these will be fun experiences for a wide range of music lovers!
URL:https://eventsforlondon.co.uk/event/kpop-showcase-ktam-unleashed/2026-04-22/
LOCATION:93 Feet East\, 150 Brick Lane\, London\, E1 6QL\, United Kingdom
CATEGORIES:Cheap Tickets,Concerts,Events in London,Festivals,Live Music,Movies
ATTACH;FMTTYPE=image/jpeg:https://eventsforlondon.co.uk/wp-content/uploads/2026/03/IMG_0130.jpeg
ORGANIZER;CN="ktam":MAILTO:amberley@ktam.co.uk
GEO:51.5213163;-0.0714676
X-APPLE-STRUCTURED-LOCATION;VALUE=URI;X-ADDRESS=93 Feet East 150 Brick Lane London E1 6QL United Kingdom;X-APPLE-RADIUS=500;X-TITLE=150 Brick Lane:geo:-0.0714676,51.5213163
END:VEVENT
BEGIN:VEVENT
DTSTART;TZID=Europe/London:20260426T190000
DTEND;TZID=Europe/London:20260426T233000
DTSTAMP:20260421T194744
CREATED:20260310T060948Z
LAST-MODIFIED:20260310T060948Z
UID:30120481-1777230000-1777246200@eventsforlondon.co.uk
SUMMARY:Jasmine Quartet presents: JOYRIDE
DESCRIPTION:Join the Jasmine Quartet for an innovative\, electrifying celebration of joy as a radical action. Featuring three world premieres by emerging UK composers + Paul Wiancko’s exhilarating contemporary masterwork LIFT\, followed by an afterparty DJ set by Maiyanaya. \nThrough exuberant performances of groundbreaking repertoire\, the Jasmine Quartet brings contemporary classical music into new & unorthodox spaces\, reframing the string quartet for the 21st century and advocating passionately for classical music’s most exciting emerging voices. \nDelyth Field / Maiyanaya is a Japanese-Welsh composer and creative technologist whose work spans concert music\, film scoring\, electronic music\, and audiovisual media. She is also an avid DJ – a recent set includes an experimental set at Copeland gallery. \nThis event is made possible through the generous support of the Hinrichsen Foundation. \nProgramme \nJames Madrilejo Cyclic\nZygmund de Somogyi String Quartet\, No. 3 – JOYRIDE\nThomas Shorthouse charms\, trinkets & offerings\nPaul Wiancko LIFT
URL:https://eventsforlondon.co.uk/event/jasmine-quartet-presents-joyride/
LOCATION:Folklore\, 186 Hackney Road\, London\, E2 7QL
CATEGORIES:Events in London,Gigs,Live Music,Music,Performing Arts
ATTACH;FMTTYPE=image/png:https://eventsforlondon.co.uk/wp-content/uploads/2026/03/JOYRIDE-Square-1080-x-1080px-1.png
END:VEVENT
END:VCALENDAR