BEGIN:VCALENDAR
VERSION:2.0
PRODID:-//Events for LONDON - ECPv6.15.20//NONSGML v1.0//EN
CALSCALE:GREGORIAN
METHOD:PUBLISH
X-ORIGINAL-URL:https://eventsforlondon.co.uk
X-WR-CALDESC:Events for Events for LONDON
REFRESH-INTERVAL;VALUE=DURATION:PT1H
X-Robots-Tag:noindex
X-PUBLISHED-TTL:PT1H
BEGIN:VTIMEZONE
TZID:Europe/London
BEGIN:DAYLIGHT
TZOFFSETFROM:+0000
TZOFFSETTO:+0100
TZNAME:BST
DTSTART:20250330T010000
END:DAYLIGHT
BEGIN:STANDARD
TZOFFSETFROM:+0100
TZOFFSETTO:+0000
TZNAME:GMT
DTSTART:20251026T010000
END:STANDARD
BEGIN:DAYLIGHT
TZOFFSETFROM:+0000
TZOFFSETTO:+0100
TZNAME:BST
DTSTART:20260329T010000
END:DAYLIGHT
BEGIN:STANDARD
TZOFFSETFROM:+0100
TZOFFSETTO:+0000
TZNAME:GMT
DTSTART:20261025T010000
END:STANDARD
BEGIN:DAYLIGHT
TZOFFSETFROM:+0000
TZOFFSETTO:+0100
TZNAME:BST
DTSTART:20270328T010000
END:DAYLIGHT
BEGIN:STANDARD
TZOFFSETFROM:+0100
TZOFFSETTO:+0000
TZNAME:GMT
DTSTART:20271031T010000
END:STANDARD
END:VTIMEZONE
BEGIN:VEVENT
DTSTART;TZID=Europe/London:20260227T080000
DTEND;TZID=Europe/London:20260227T170000
DTSTAMP:20260421T180834
CREATED:20260129T055853Z
LAST-MODIFIED:20260129T055853Z
UID:30115846-1772179200-1772211600@eventsforlondon.co.uk
SUMMARY:International Journal of Computer Science and Information Technology (IJCSIT)
DESCRIPTION:Scope & Topics\nThe AIRCC’s International Journal of Computer Science and Information Technology (IJCSIT) is devoted to fields of Computer Science and Information Systems. The IJCSIT is a open access peer-reviewed scientific journal published in electronic form as well as print form. The mission of this journal is to publish original contributions in its field in order to propagate knowledge amongst its readers and to be a reference publication. \nIJCSIT publishes original research papers and review papers\, as well as auxiliary material such as: case studies\, technical reports etc. \nTopics of interest include but are not limited to\, the following\n\n\n\n\n\n\nAlgorithms and Bioinformatics\nArtificial Intelligence\nComputer Architecture and Real Time Systems\nDatabase and Data Mining\nDependable\, Reliable and Autonomic Computing\nDistributed and Parallel Systems & Algorithms\nDSP/Image Processing/Pattern Recognition/Multimedia\nEmbedded System and Software\nGame and Software Engineering\nGeographical Information Systems/ Global Navigation Satellite Systems (GIS/GNSS)\nGrid and Scalable Computing\nIntelligent Information & Database Systems\nIT policy and Business Management\nMobile and Ubiquitous Computing\nModeling and Simulation\nMultimedia Systems and Services\nNetworking and Communications\nParallel and Distributed Systems\nSecurity and Information Assurance\nSoft Computing (AI\, Neural Networks\, Fuzzy Systems\, etc.)\nSoftware Engineering\nWeb and Internet Computing\nBlockchain\nData Mining\nDeep Learning\nBig Data\n\n\n\n\nInternet of Things\nMachine Learning & Applications\nNatural Language Processing (NLP)\nQuantum Computing\nEdge Computing\nExplainable Artificial Intelligence (XAI)\nFederated Learning\nCyber-Physical Systems (CPS)\nAugmented Reality (AR) and Virtual Reality (VR)\nHuman-Computer Interaction (HCI)\nExplainable AI (XAI)\nQuantum Machine Learning\nRobotic Process Automation (RPA)\nCognitive Computing\nComputational Genomics\nEthical AI and AI Governance\nAutonomous Vehicles\nSmart Cities and Urban Computing\nOnline platforms for selling medicines\nGreen Computing and Sustainable Technologies\nWearable Computing and IoT Integration\nPrivacy-Preserving Machine Learning\nBio-inspired Computing\nAutonomous Agents and Multi-Agent Systems\nSwarm Intelligence\nInternet of Medical Things (IoMT)\nTrustworthy AI and Responsible AI
URL:https://eventsforlondon.co.uk/event/international-journal-of-computer-science-and-information-technology-ijcsit/
CATEGORIES:Conversation,Courses,Education,Events in London,Science
END:VEVENT
END:VCALENDAR