BEGIN:VCALENDAR
VERSION:2.0
PRODID:-//Events for LONDON - ECPv6.15.20//NONSGML v1.0//EN
CALSCALE:GREGORIAN
METHOD:PUBLISH
X-ORIGINAL-URL:https://eventsforlondon.co.uk
X-WR-CALDESC:Events for Events for LONDON
REFRESH-INTERVAL;VALUE=DURATION:PT1H
X-Robots-Tag:noindex
X-PUBLISHED-TTL:PT1H
BEGIN:VTIMEZONE
TZID:Europe/London
BEGIN:DAYLIGHT
TZOFFSETFROM:+0000
TZOFFSETTO:+0100
TZNAME:BST
DTSTART:20210328T010000
END:DAYLIGHT
BEGIN:STANDARD
TZOFFSETFROM:+0100
TZOFFSETTO:+0000
TZNAME:GMT
DTSTART:20211031T010000
END:STANDARD
BEGIN:DAYLIGHT
TZOFFSETFROM:+0000
TZOFFSETTO:+0100
TZNAME:BST
DTSTART:20220327T010000
END:DAYLIGHT
BEGIN:STANDARD
TZOFFSETFROM:+0100
TZOFFSETTO:+0000
TZNAME:GMT
DTSTART:20221030T010000
END:STANDARD
BEGIN:DAYLIGHT
TZOFFSETFROM:+0000
TZOFFSETTO:+0100
TZNAME:BST
DTSTART:20230326T010000
END:DAYLIGHT
BEGIN:STANDARD
TZOFFSETFROM:+0100
TZOFFSETTO:+0000
TZNAME:GMT
DTSTART:20231029T010000
END:STANDARD
BEGIN:DAYLIGHT
TZOFFSETFROM:+0000
TZOFFSETTO:+0100
TZNAME:BST
DTSTART:20240331T010000
END:DAYLIGHT
BEGIN:STANDARD
TZOFFSETFROM:+0100
TZOFFSETTO:+0000
TZNAME:GMT
DTSTART:20241027T010000
END:STANDARD
BEGIN:DAYLIGHT
TZOFFSETFROM:+0000
TZOFFSETTO:+0100
TZNAME:BST
DTSTART:20250330T010000
END:DAYLIGHT
BEGIN:STANDARD
TZOFFSETFROM:+0100
TZOFFSETTO:+0000
TZNAME:GMT
DTSTART:20251026T010000
END:STANDARD
BEGIN:DAYLIGHT
TZOFFSETFROM:+0000
TZOFFSETTO:+0100
TZNAME:BST
DTSTART:20260329T010000
END:DAYLIGHT
BEGIN:STANDARD
TZOFFSETFROM:+0100
TZOFFSETTO:+0000
TZNAME:GMT
DTSTART:20261025T010000
END:STANDARD
END:VTIMEZONE
BEGIN:VEVENT
DTSTART;TZID=Europe/London:20221122T193000
DTEND;TZID=Europe/London:20221122T220000
DTSTAMP:20260423T190714
CREATED:20221107T162222Z
LAST-MODIFIED:20221107T162225Z
UID:30058895-1669145400-1669154400@eventsforlondon.co.uk
SUMMARY:// PLAQLOCK PRESENTS // Tuesday Jazz w/ Ali Affleck
DESCRIPTION:// PLAQLOCK PRESENTS // \nTuesday Jazz with the incredible Ali Affleck. Expect to hear classic jazz tunes sung with expert talent this Tuesday 22nd November. \n19:30-22:00 & £5 pp which goes to the musicians \nJoin us for Louisiana Creole & Cajun food\, British beers & New Orleans cocktails.\nBook tables & tickets here: https://www.sevenrooms.com/reservations/plaqueminelock?default_date=2022-11-22
URL:https://eventsforlondon.co.uk/event/plaqlock-presents-tuesday-jazz-w-ali-affleck/
LOCATION:Plaquemine Lock\, Angel Islington\, 139 Graham St\, N1 9LB
CATEGORIES:Cheap Tickets,Concerts,Events in London,Food & Drink,Gigs,Live Music,Music
ATTACH;FMTTYPE=image/png:https://eventsforlondon.co.uk/wp-content/uploads/2022/11/ali-affleck-2.png
GEO:51.532637;-0.10055
X-APPLE-STRUCTURED-LOCATION;VALUE=URI;X-ADDRESS=Plaquemine Lock Angel Islington 139 Graham St N1 9LB;X-APPLE-RADIUS=500;X-TITLE=139 Graham St:geo:-0.10055,51.532637
END:VEVENT
BEGIN:VEVENT
DTSTART;TZID=Europe/London:20221208T000000
DTEND;TZID=Europe/London:20230204T235959
DTSTAMP:20260423T190714
CREATED:20221208T105645Z
LAST-MODIFIED:20230205T162546Z
UID:30058965-1670457600-1675555199@eventsforlondon.co.uk
SUMMARY:ST~Germain® Spark in Sparkling at Hush Mayfair
DESCRIPTION:December 2022: ST~GERMAIN® – the world’s first liqueur expertly crafted from wild-grown\, hand-picked\, fresh elderflowers – is putting the spark in sparkling with the launch of their spectacular terrace at HUSH Mayfair in London. \nST~GERMAIN has added a dash of decadent inspiration to the terrace\, from delicious bespoke cocktails\, to sparkling baubles\, joyful florals and presents displayed on a loveseat swing. The bespoke menu includes: \n\nST~GERMAIN Royale complete with edible gold flakes to add a little extra decadence\nST~GERMAIN Spritz\nST~GERMAIN Bramble Fizz\nST~GERMAIN Stealth Margarita\nST~GERMAIN Before Hugo\nST~GERMAIN Sour\n\nTo add a further dash of inspiration to your sparkling celebration\, HUSH will be home to Le Royale Dash. With one gentle press\, Le Royale Dash simultaneously serves the perfect dash of ST~GERMAIN elderflower liqueur into two champagne flutes for the delicious ST~GERMAIN Royale Cocktail. HUSH is the only place in London to experience this!
URL:https://eventsforlondon.co.uk/event/stgermain-is-putting-the-spark-in-sparkling-celebrations-with-new-festive-terrace-at-hush-mayfair/
LOCATION:Hush Mayfair\, 8 Lancashire Ct\,\, London\, W1S 1EY
CATEGORIES:Events in London,Restaurant Promotions
ATTACH;FMTTYPE=image/jpeg:https://eventsforlondon.co.uk/wp-content/uploads/2022/12/aec652_2980d59dc08c43819f46211b7e512e4cmv2.jpg-e1670496990274.jpg
GEO:51.5128436;-0.1457581
X-APPLE-STRUCTURED-LOCATION;VALUE=URI;X-ADDRESS=Hush Mayfair 8 Lancashire Ct London W1S 1EY;X-APPLE-RADIUS=500;X-TITLE=8 Lancashire Ct\,:geo:-0.1457581,51.5128436
END:VEVENT
BEGIN:VEVENT
DTSTART;TZID=Europe/London:20230527T090000
DTEND;TZID=Europe/London:20230529T210000
DTSTAMP:20260423T190714
CREATED:20230510T181652Z
LAST-MODIFIED:20230510T181823Z
UID:30060166-1685178000-1685394000@eventsforlondon.co.uk
SUMMARY:FOODIES FESTIVAL\, SYON PARK
DESCRIPTION:Join us at Syon Park for Foodies Festival 2023 – our biggest celebration yet of top chefs\, tasty food\, delicious drinks and live music. \n\n\n\nWatch MasterChef Champions\, Michelin-starred and top local chefs cooking their signature summer recipes in the La Española Chefs Theatre. \n\n\n\nLearn how to make show-stopping cakes with expert bakers in The Cake & Bake Theatre. Great British Bake Off stars\, including 2022 winner Syabira Yusoff will share their best baking hints\, and tips live on stage with easy-to-make recipes that are as delicious to look at as they are to eat. \n\n\n\nSample new wines\, champagnes and cocktails in The Drinks Theatre. Eat delicious street food from around the world. Taste new flavours. Meet artisan producers. Have fun all day with chilli-eating competitions and food challenges! Kids join in the fun at The Kids Cookery Theatre.
URL:https://eventsforlondon.co.uk/event/foodies-festival-syon-park-3/
LOCATION:Syon Park\, Syon House \, Brentford\, Middx\, TW8 8JF\, United Kingdom
CATEGORIES:Arts,Children,Drink Tasting,Family Activities,Festivals,Food & Drink,Food Festivals,Food Tasting,Live Music,Music
ATTACH;FMTTYPE=image/jpeg:https://eventsforlondon.co.uk/wp-content/uploads/2023/05/FF23_New-Square-Lockups_Syon-Park-e1683742662955.jpg
GEO:51.4776;-0.314044
X-APPLE-STRUCTURED-LOCATION;VALUE=URI;X-ADDRESS=Syon Park Syon House  Brentford Middx TW8 8JF United Kingdom;X-APPLE-RADIUS=500;X-TITLE=Syon House \, Brentford\, Middx:geo:-0.314044,51.4776
END:VEVENT
BEGIN:VEVENT
DTSTART;TZID=Europe/London:20230611T190000
DTEND;TZID=Europe/London:20230611T230000
DTSTAMP:20260423T190714
CREATED:20230605T103810Z
LAST-MODIFIED:20230605T103813Z
UID:30060266-1686510000-1686524400@eventsforlondon.co.uk
SUMMARY:Jukebox Sunday Night Jive  - fun 1940's 50's jive party
DESCRIPTION:Jukebox Sunday night Jive returns to North London with the retro diva and vinyl queen DJ Jen (from Jump Jive and Shout) spinning the red hot\, pulsating\, uplifting\, vintage vinyl sounds that sizzle. Get ready for some dynamic\, energy-driven 40s and ’50s tunes. There’s rhythm & blues\, jump jive\, doo-wop\, jivers\, blues shouters\, rock ‘n; roll\, big band\, swing and a whole lot more. \n\n\n\nMusic that rocked the jukeboxes\, gin houses and rent parties all over America and still sounds as fresh today as it did way back then. \n\n\n\nBig Joe Turner\, Louis Jordan\, Bull Moose Jackson\, Little Richard\, Ruth Brown\, Buddy Holly\, The Larks\, Pee Wee King\, Cab Calloway\, The Jacks\, Chuck Berry and Louis Prima are just some of the great names you can look forward to hearing. \n\n\n\nA nice venue\, wooden floor\, cool bar serving lush vintage-inspired cocktails (two for one with the flyer)\, and a nice dance/dining area\, making Jukebox Sunday Night Jive in North London the place to be on a Sunday night.  Everyone is welcome. See you at Jukebox Sunday Night Jive. \n\n\n\nDress: Retro\, vintage\, smart\, casual\, rockin’\, 1940’s\, 1950’s\, 60’s\, glamour. Pin-up. \n\n\n\n#jive \n\n\n\n#jiving \n\n\n\n#1950s \n\n\n\n#retro \n\n\n\n#rock n roll \n\n\n\n#rhythm & blues \n\n\n\n#jumpinjive \n\n\n\n#dancing \n\n\n\n#rockabilly \n\n\n\n#rockinscene \n\n\n\n#1940s \n\n\n\n#swingdancing \n\n\n\n#bigband \n\n\n\n#dj \n\n\n\n#jitterbug \n\n\n\n#vinylrecords \n\n\n\nThe Horatia \n\n\n\n98-102 Holloway RoadLondon\, N7 8JE \n\n\n\nTube: Highbury & Islington \n\n\n\nBuses: 21\, 43\, 153\, 263 & 393 \n\n\n\n7.00 pm – 11.00 pm \n\n\n\nhttps://www.facebook.com/events/1297789171137991
URL:https://eventsforlondon.co.uk/event/jukebox-sunday-night-jive-fun-1940s-50s-jive-party/
LOCATION:The Horatia Pub\, 98-102 Holloway Road\, London\, N7 8JE\, United Kingdom
CATEGORIES:Entertainment,Events in London,Free Events,Party
ATTACH;FMTTYPE=image/jpeg:https://eventsforlondon.co.uk/wp-content/uploads/2023/06/Official-flyerRESIZE-e1685961467847.jpg
ORGANIZER;CN="Jeniffer Jackson":MAILTO:dream.retro22@hotmail.com
END:VEVENT
BEGIN:VEVENT
DTSTART;TZID=Europe/London:20240323T200000
DTEND;TZID=Europe/London:20240323T220000
DTSTAMP:20260423T190714
CREATED:20240305T165306Z
LAST-MODIFIED:20240305T165310Z
UID:30065056-1711224000-1711231200@eventsforlondon.co.uk
SUMMARY:Resistance Comedy Funny @ DAC (Live Comedy)
DESCRIPTION:🎤 Get ready to bust a gut and laugh your socks off at the hottest comedy show in town.\n\n\n\n \n\n\n\nDAC & Resistance Comedy proudly present “Funny @ DAC\,” an uproarious live stand-up comedy show that promises an evening of non-stop laughter\, wit\, and unbridled hilarity. 📅 Mark your calendars for Saturday\, March 23rd\, 2024\, as we kick off the year with a bang\, returning after our sold-out Christmas extravaganza in December.\n\n\n\n \n\n\n\nThis time\, we’re turning up the heat with an ensemble of comedic geniuses guaranteed to leave you in stitches.\n\n\n\n \n\n\n\n💥 Brace yourselves for a star-studded lineup featuring the comedic brilliance of:\n\n\n\n🌟 Lateef Lovejoy\n\n\n\n🌟 Darran Griffiths\n\n\n\n🌟 Junior Booker\n\n\n\n🌟 Michael Hackett\n\n\n\n🌟 Matthew Rose\n\n\n\n🌟 Farhan Solo\n\n\n\n🌟 Raj Poojara\n\n\n\n(Lineup Subject To Change)\n\n\n\n \n\n\n\n \n\n\n\n🤩 These comedic maestros will take the stage at DAC to deliver a night of side-splitting anecdotes\, razor-sharp observations\, and gut-busting punchlines. It’s the perfect way to shake off the winter blues and welcome the spring with a belly full of laughter.\n\n\n\n \n\n\n\n🎫 Don’t miss out our first DAC show of the year. Secure your tickets now for “Funny @ DAC” on Saturday\, March 23rd\, 2024\, and join us for a night of unforgettable entertainment.\n\n\n\n \n\n\n\nGet ready to laugh till your cheeks hurt – because with this lineup\, there’s no room for a dull moment! PLUS Don’t miss DAC Happy Hour 5.30pm – 7.30pm to kickstart your Saturday night with us. 🥂🍻\n\n\n\n \n\n\n\n– Showtime 8pm – Finish 10.15pm\n\n\n\n \n\n\n\n🔥 “Funny @ DAC” – We’ve got your Saturday night sorted Enfield!\n\n\n\n \n\n\n\nSee you there! 🔥
URL:https://eventsforlondon.co.uk/event/resistance-comedy-funny-dac-live-comedy/
LOCATION:Dugdale Arts Centre\, 39 London Road\, Enfield\, EN2 6DS
CATEGORIES:Comedy
ATTACH;FMTTYPE=image/jpeg:https://eventsforlondon.co.uk/wp-content/uploads/2024/03/IMG_3117_gvKxJDw.jpeg.970x0_q85_autocrop.jpg
ORGANIZER;CN="Resistance Comedy":MAILTO:info@resistancecomedy.co.uk
GEO:51.6503843;-0.0809511
X-APPLE-STRUCTURED-LOCATION;VALUE=URI;X-ADDRESS=Dugdale Arts Centre 39 London Road Enfield EN2 6DS;X-APPLE-RADIUS=500;X-TITLE=39 London Road:geo:-0.0809511,51.6503843
END:VEVENT
BEGIN:VEVENT
DTSTART;TZID=Europe/London:20240715T180000
DTEND;TZID=Europe/London:20240818T220000
DTSTAMP:20260423T190714
CREATED:20240715T165841Z
LAST-MODIFIED:20240715T165841Z
UID:30074609-1721066400-1724018400@eventsforlondon.co.uk
SUMMARY:Savage Sunset x UMANE: The Ultimate Rooftop Party of the Summer
DESCRIPTION:London\, July 2024 – Get ready for the rooftop party of the summer! Savage Garden Rooftop Bar are thrilled to present Savage Sunset x UMANE\, a spectacular event you won’t want to miss. \nEvent Details: \n\nDate & Time: Monday\, July 15th – DJ from 6 PM to 10 PM (Savage will be open from 3 PM to 2 AM)\nMenu: Enjoy a bespoke menu designed for fast service\, courtesy of our generous sponsor.\n\nJust back from the best holiday of your life in Ibiza and longing for that same incredible vibe? Dreaming of escaping London for a day to experience the dazzling skylines and rooftop parties of Dubai? Savage Sunsets is your perfect escape. \nJoin us to celebrate the first release on GoDeeva\, one of the top three best-selling labels in afrohouse. This epic rooftop party will feature an electrifying lineup including UMANE\, Deceivr\, D.X.D.\, and Clefheart. \nTickets: Open to everyone. Entry is reserved for guest list holders. DM us to apply to the guest list and register for free! \nSavage Garden \nFloor 12\, 7 Pepys St\, London EC3N 4AF \n1 min from Fenchurch St overground / 3 mins from Tower Hill station \nOpening Hours: \n\nMonday\, Tuesday & Wednesday 15:00 – 00:00 (Last entry 23:30)\nThursday & Friday 15:00 – 02:00 (Last entry 01:30)\nSaturday 12:00 – 02:00 (last orders 01:30)\nSunday 15:00 – 00:00 (last orders 23:30) \nBrunch (Saturday) 12:00 -15:00\n\nEvening Food Service  \n\nMonday – Friday 17:00 – 21:30\nFriday 17:00 – 22:30 \nSaturday 16:00 – 22:30 \nSunday 17:00 – 21:30\n\nhttps://www.savagegarden.co.uk \n@savagegardenldn \n 
URL:https://eventsforlondon.co.uk/event/savage-sunset-x-umane-the-ultimate-rooftop-party-of-the-summer/
LOCATION:savage garden rooftop\, 7\, Pepys Street\,\, London\, EC3N 4AF
CATEGORIES:Events in London,Music
ATTACH;FMTTYPE=image/jpeg:https://eventsforlondon.co.uk/wp-content/uploads/2024/07/IMG_4794.jpg
END:VEVENT
BEGIN:VEVENT
DTSTART;TZID=Europe/London:20250927T130000
DTEND;TZID=Europe/London:20250927T143000
DTSTAMP:20260423T190714
CREATED:20250811T135811Z
LAST-MODIFIED:20250811T135811Z
UID:30103633-1758978000-1758983400@eventsforlondon.co.uk
SUMMARY:Wine tasting in the walled garden
DESCRIPTION:Wine tasting in the walled garden at Fulham Palace \nStep into the walled garden at Fulham Palace for an afternoon of wine\, history and discovery. \nEnjoy a selection of wines from local urban wineries\, all served in London’s second-oldest botanical garden. Each wine will be expertly introduced by archaeologist and wine specialist Kat Hornak. Throughout the tasting\, Kat will explore the fascinating history of wine in Britain\, from its Roman roots to the rise of modern winemaking in the city. \nWith its rich past and beautiful surroundings\, Fulham Palace offers the perfect setting for this relaxed yet insightful tasting. Whether you’re passionate about wine\, curious about local history or simply looking for a memorable way to spend a Saturday afternoon\, this event offers the perfect opportunity.
URL:https://eventsforlondon.co.uk/event/wine-tasting-in-the-walled-garden/
LOCATION:Fulham Palace\, Fulham Palace\, London\, SW6 6EA\, United Kingdom
CATEGORIES:Charity Events,Entertainment,Events in London,History,Museums,Wine
ATTACH;FMTTYPE=image/jpeg:https://eventsforlondon.co.uk/wp-content/uploads/2025/08/Fulham-Palace-wine-tasting-credit-Erin-Brudi.jpg
ORGANIZER;CN="Fulham Palace":MAILTO:reception@fulhampalace.org
END:VEVENT
END:VCALENDAR