BEGIN:VCALENDAR
VERSION:2.0
PRODID:-//Events for LONDON - ECPv6.15.20//NONSGML v1.0//EN
CALSCALE:GREGORIAN
METHOD:PUBLISH
X-ORIGINAL-URL:https://eventsforlondon.co.uk
X-WR-CALDESC:Events for Events for LONDON
REFRESH-INTERVAL;VALUE=DURATION:PT1H
X-Robots-Tag:noindex
X-PUBLISHED-TTL:PT1H
BEGIN:VTIMEZONE
TZID:Europe/London
BEGIN:DAYLIGHT
TZOFFSETFROM:+0000
TZOFFSETTO:+0100
TZNAME:BST
DTSTART:20250330T010000
END:DAYLIGHT
BEGIN:STANDARD
TZOFFSETFROM:+0100
TZOFFSETTO:+0000
TZNAME:GMT
DTSTART:20251026T010000
END:STANDARD
BEGIN:DAYLIGHT
TZOFFSETFROM:+0000
TZOFFSETTO:+0100
TZNAME:BST
DTSTART:20260329T010000
END:DAYLIGHT
BEGIN:STANDARD
TZOFFSETFROM:+0100
TZOFFSETTO:+0000
TZNAME:GMT
DTSTART:20261025T010000
END:STANDARD
BEGIN:DAYLIGHT
TZOFFSETFROM:+0000
TZOFFSETTO:+0100
TZNAME:BST
DTSTART:20270328T010000
END:DAYLIGHT
BEGIN:STANDARD
TZOFFSETFROM:+0100
TZOFFSETTO:+0000
TZNAME:GMT
DTSTART:20271031T010000
END:STANDARD
END:VTIMEZONE
BEGIN:VEVENT
DTSTART;TZID=Europe/London:20260425T140000
DTEND;TZID=Europe/London:20260425T173000
DTSTAMP:20260420T174951
CREATED:20251117T042502Z
LAST-MODIFIED:20260129T181235Z
UID:30111323-1777125600-1777138200@eventsforlondon.co.uk
SUMMARY:Single Muslim Marriage Event – London (Ages 24–45+)
DESCRIPTION:*NEW EVENT IN LONDON* \nSingle Muslim Marriage Event – London (Ages 24–45+) \n📅 Date:\nSaturday\, 25th April 2026 at 14:00 \n📍 Venue:\nFinchley\,\nEast End Road\,\nLondon\,\nN2 0SE \n🎟 Tickets \nBook via the Eventbrite Link below 👇 \nhttps://www.eventbrite.co.uk/e/london-single-muslim-marriage-event-ages-24-45-two-age-groups-tickets-1981805264896?utm_experiment=test_share_listing&aff=ebdsshios&sg=abe88129f91b41cebfc292d60b09d97d1f7c84f5266a0f2ef2dd857f6d984cdc474abe7099fe0abc2ac92239724cc6167db4f8658f767c0cfc03aad91e7d1d5ae8c973ee4bafbc91e9f5df696e87 \n#singlemuslim #muslim #muslimmarriage #fyp #viral
URL:https://eventsforlondon.co.uk/event/single-muslim-marriage-event-london-ages-24-45-2/
LOCATION:Christ’s College\, Finchley\,East End Road\, London\, Greater London\, N2 0SE\, United Kingdom
CATEGORIES:Religion and Spirituality
ATTACH;FMTTYPE=image/jpeg:https://eventsforlondon.co.uk/wp-content/uploads/2025/11/Single-Muslim-LONDON-24-45-Couple.jpg
ORGANIZER;CN="Asy":MAILTO:tietheknotmuslimevents@outlook.com
END:VEVENT
END:VCALENDAR