BEGIN:VCALENDAR
VERSION:2.0
PRODID:-//Events for LONDON - ECPv6.15.20//NONSGML v1.0//EN
CALSCALE:GREGORIAN
METHOD:PUBLISH
X-ORIGINAL-URL:https://eventsforlondon.co.uk
X-WR-CALDESC:Events for Events for LONDON
REFRESH-INTERVAL;VALUE=DURATION:PT1H
X-Robots-Tag:noindex
X-PUBLISHED-TTL:PT1H
BEGIN:VTIMEZONE
TZID:Europe/London
BEGIN:DAYLIGHT
TZOFFSETFROM:+0000
TZOFFSETTO:+0100
TZNAME:BST
DTSTART:20230326T010000
END:DAYLIGHT
BEGIN:STANDARD
TZOFFSETFROM:+0100
TZOFFSETTO:+0000
TZNAME:GMT
DTSTART:20231029T010000
END:STANDARD
BEGIN:DAYLIGHT
TZOFFSETFROM:+0000
TZOFFSETTO:+0100
TZNAME:BST
DTSTART:20240331T010000
END:DAYLIGHT
BEGIN:STANDARD
TZOFFSETFROM:+0100
TZOFFSETTO:+0000
TZNAME:GMT
DTSTART:20241027T010000
END:STANDARD
BEGIN:DAYLIGHT
TZOFFSETFROM:+0000
TZOFFSETTO:+0100
TZNAME:BST
DTSTART:20250330T010000
END:DAYLIGHT
BEGIN:STANDARD
TZOFFSETFROM:+0100
TZOFFSETTO:+0000
TZNAME:GMT
DTSTART:20251026T010000
END:STANDARD
BEGIN:DAYLIGHT
TZOFFSETFROM:+0000
TZOFFSETTO:+0100
TZNAME:BST
DTSTART:20260329T010000
END:DAYLIGHT
BEGIN:STANDARD
TZOFFSETFROM:+0100
TZOFFSETTO:+0000
TZNAME:GMT
DTSTART:20261025T010000
END:STANDARD
END:VTIMEZONE
BEGIN:VEVENT
DTSTART;TZID=Europe/London:20251029T190000
DTEND;TZID=Europe/London:20251029T220000
DTSTAMP:20260422T004702
CREATED:20250916T155332Z
LAST-MODIFIED:20250916T155332Z
UID:30107710-1761764400-1761775200@eventsforlondon.co.uk
SUMMARY:Witch\, Please! Samhain 3
DESCRIPTION:Witch\, Please! Samhain 3\n\n\nHAIL TO THE GUARDIANS OF THE QUEERS OF EAST LONDON! I INVOKE THE! \n🔥⚡💧🌱🌪 \nWELCOME MORTALS! \nCome little darlings\, we’ll take you away into to a land of enchantment. \n‘Witch\, Please!’\, a cabaret show based on all things witches\, mystical fantasy and the occult\, across all spectrums. \nOur third Samhain Sabbath will resurrect our most evil coven from a year of slumber\, to prowl the earth when the veil is at it’s most frail. Who knows what the prowess of these priestesses shall bring forth on this special night. \nFrom the Sanderson sisters to the Faits\, Madame Mim to Mildred Hubble\, from Glinda to Dark Willow\, warlocks\, weirdos\, hags and enchantresses\, an array of performances are here to bewitch you into a frenzied state. \nStep into The Divine’s spooky basement filled with treats and tricks. Alongside our chaotic coven gathering\, there will be a costume competition open to all our guests who dare to delight us with creepy adornment. That’s right\, it’s Halloween\, and the best costume shall receive extra special prizes. \nThe question remains: TRICK or TREAT?! \n  \nRosacea as our Grand High Witch\, will induct her Samhain sisters; \n-Princess Pathojen \n-Elena Blvck \n-Meat \n-Uma Loob \n  \nAfter all magick is not just for Halloween\, but it’s a pretty poignant time for it. \nPlease note this show will include strobing and flashing lights. \n\nBOOKING INFO // TICKETS: \nTickets are non-refundable or transferable (unless the is event cancelled) \nThis is a seated show and seats are not allocated. If you require seats for a specific reason then please get in touch for reservations. \nDate: Wednesday 29th October\nTime: Doors – 19:00\, Start – 19:30pm.\nVenue: The Divine\, 33 Stoker Newington Road\, N16 8BJ \nTickets: \n\nEarly Fowl: £8\nApprentice: £10\nFinal Caster:  £12 (£15 OTD)\nLow Income Tickets: Available upon request\, please contact the organizers to facilitate.\nPay It Forward: Want to support the ancient arts but cannot be present for our sabbath? Then with modern magic we can take thy coin from afar and shall pray to the gods on thy behalf.\n\nACCESS\nSadly\, The Divine is currently not fully accessible. The cabaret and club space are in the basement of the venue. There are 17 wide steps with slip resistant treads down to the space with sturdy handrails either side. There are two steps up to the stage. The toilets are in the basement and are not accessible for wheelchair users. If you need further information\, please refer to The Divine ‘About’ page on the website. http://www.thedivine.co.uk
URL:https://eventsforlondon.co.uk/event/witch-please-samhain-3/
LOCATION:THE DIVINE\, 33-35 Stoke Newington Rd\,\, London\, N16 8BJ
CATEGORIES:Cheap Tickets,Comedy,Entertainment,Events in London,History,London Theatre,Performing Arts,Religion and Spirituality,Visual Arts
ATTACH;FMTTYPE=image/png:https://eventsforlondon.co.uk/wp-content/uploads/2025/09/Screenshot-2025-09-15-at-15.29.11.png
END:VEVENT
BEGIN:VEVENT
DTSTART;TZID=Europe/London:20251019T180000
DTEND;TZID=Europe/London:20251019T220000
DTSTAMP:20260422T004702
CREATED:20250916T160326Z
LAST-MODIFIED:20250916T160326Z
UID:30107709-1760896800-1760911200@eventsforlondon.co.uk
SUMMARY:Not Yet Certified - Sleepy Hollow (1999)
DESCRIPTION:💡BY CANDLE LIGHTS \n🎥 MISTED CAMS \n🎬 OFF WITH YOUR HEADS! \nAnother Flawed Production welcomes you to the star studded\, red rug stomping premiere of Not Yet Certified- HALLOWEEN EDITION! A spooky movie night entwined with the magic of live performance and cinematic excellence. Get your cut out ready popcorn boxes for a night of theatrical frivolity\, interactive titillation and a good viewing of the most excellent movies of all time. Well in my eyes anywho. \nI\, Rosacea shall be screening the visually spooktacular ‘Sleepy Hollow’ (1999) by Tim Burton. But not alone I shan’t\, for this very evening I shall be graced with fellow artists of such calibre that an Oscar is simply a suppository; \nClimax as Katrina Van Tassel \nLust as Crone \nFabio Lezonli as Ichabod Crane \n‘Ichabod Crane is sent to Sleepy Hollow to investigate the decapitations of three people; the culprit is legendary apparition The Headless Horseman.’ \n[This film will be fully subtitled in english.] \nThroughout this spectacular we shall play the entire movie along with some excited opportunities for our guests to win prizes!!\nOh yes\, we shall be holding a costume competition for the best adorned vessel in relation to the chosen movie as well as a quiz. Successful in your game playing and to top the box office will have you reap in a bottle of bubbly as well as 2 free tickets to the next Another Flawed Production event. \nBut what is a movie without snacks?!\nPopcorn will be handed out upon your arrival and you are also welcome to bring in your own snacks! Please not hot food as the venue does not have the licence. If you do have a serve allergy that will need to limit people’s munching options then let the organiser know so this need can be met. \nIMPORTANT INFO \nDate: Sunday 19th October\nTime: Doors – 18:00\, Start – 18:30\nVenue: The Divine\, 33 Stoker Newington Road\, N16 8BJ \n  \nACCESS\nSadly\, The Divine is currently not fully accessible. The cabaret and club space are in the basement of the venue. There are 17 wide steps with slip resistant treads down to the space with sturdy handrails either side. There are two steps up to the stage. The toilets are in the basement and are not accessible for wheelchair users. If you need further information\, please refer to The Divine ‘About’ page on the website. http://www.thedivine.co.uk
URL:https://eventsforlondon.co.uk/event/not-yet-certified-sleepy-hollow-1999/
LOCATION:THE DIVINE\, 33-35 Stoke Newington Rd\,\, London\, N16 8BJ
CATEGORIES:Cheap Tickets,Comedy,Films,London Theatre,Movies,Performing Arts
ATTACH;FMTTYPE=image/png:https://eventsforlondon.co.uk/wp-content/uploads/2025/09/Screenshot-2025-09-15-at-15.15.30.png
END:VEVENT
BEGIN:VEVENT
DTSTART;TZID=Europe/London:20250309T060000
DTEND;TZID=Europe/London:20250309T210000
DTSTAMP:20260422T004702
CREATED:20250225T144745Z
LAST-MODIFIED:20250225T144745Z
UID:30089784-1741500000-1741554000@eventsforlondon.co.uk
SUMMARY:Not Yet Certified - Moulin Rouge! (2001)
DESCRIPTION:💡WINDMILL LIGHTS \n🎥 ONLYFANS CAMS \n🎬 BOHEMIAN ACTION! \n  \nAnother Flawed Production welcomes you to the star-studded\, red rug-stomping premiere of Not Yet Certified- LOVE EDITION! A merry movie night entwined with the magic of live performance and cinematic excellence. Get your cut out ready popcorn boxes for a night of theatrical frivolity\, interactive titillation and a good viewing of the most excellent movies of all time. Well\, in my eyes\, anywho. \nI\, Rosacea\, shall be screening the vivaciously visual ‘Moulin Rouge!’ (2001) by Baz Luhrmann. But not alone\, I shan’t\, for this very evening\, I shall be graced with fellow artists of such calibre that an Oscar is simply a suppository; \nPMBC as Narcoleptic Argentinian \nDie Lemma as Diamond Dog \nMinara El Waters as Hindi Diamond \nIzzn’t She as Men \n‘A poor Bohemian poet in 1890s Paris falls for a beautiful courtesan and nightclub star coveted by a jealous duke.’ \n[This film will be fully subtitled in English.] \nThroughout this spectacular\, we shall play the entire movie along with some exciting opportunities for our guests to win prizes!!\nOh yes\, we shall be holding a costume competition for the best-adorned vessel to the chosen movie\, as well as a quiz. Successful in your game playing and to top the box office will have you reap in a bottle of bubbly as well as two free tickets to the next Another Flawed Production event. \nBut what is a movie without snacks?!\nPopcorn will be handed out upon your arrival\, and you are also welcome to bring your own snacks! Please do not hot food as the venue does not have a licence. If you have a severe allergy that will need to limit people’s munching options\, let the organiser know so this need can be met. \nIMPORTANT INFO \nDate: Sunday 9th March\nTime: Doors – 18:00\, Start – 18:30\nVenue: The Divine\, 33 Stoker Newington Road\, N16 8BJ \n  \nACCESS\nSadly\, The Divine is currently not fully accessible. The cabaret and club space are in the basement of the venue. There are 17 wide steps with slip resistant treads down to the space with sturdy handrails either side. There are two steps up to the stage. The toilets are in the basement and are not accessible for wheelchair users. If you need further information\, please refer to The Divine ‘About’ page on the website. http://www.thedivine.co.uk
URL:https://eventsforlondon.co.uk/event/not-yet-certified-moulin-rouge-2001/
LOCATION:THE DIVINE\, 33-35 Stoke Newington Rd\,\, London\, N16 8BJ
CATEGORIES:Cheap Tickets,Comedy,Entertainment,Events in London,Films,London Musicals,London Theatre,Movies,Performing Arts
ATTACH;FMTTYPE=image/png:https://eventsforlondon.co.uk/wp-content/uploads/2025/02/Screenshot-2025-02-24-at-21.34.49-e1740494858438.png
END:VEVENT
BEGIN:VEVENT
DTSTART;TZID=Europe/London:20250308T160000
DTEND;TZID=Europe/London:20250309T030000
DTSTAMP:20260422T004702
CREATED:20250211T124153Z
LAST-MODIFIED:20250211T124153Z
UID:30089271-1741449600-1741489200@eventsforlondon.co.uk
SUMMARY:Brazilian Carnival Costume Party London UK
DESCRIPTION:Join us for an unforgettable celebration of the Brazilian Carnival on Saturday\, March 8th\, at Salsa Soho! 4 pm-3 am.\nSlip into your most vibrant carnival attire and let your imagination run wild as we transform the night into a dazzling fiesta.\nEnjoy the infectious rhythms of samba and revel in the electric atmosphere at the best Carnival party in town.\n\nDon’t miss out on our special offer of 2-for-1 Caipirinhas all night long\, serving up the perfect refresher as you dance the night away. Gather your friends\, unleash your inner spirit\, and prepare for a night filled with joy\, laughter\, and unforgettable memories.\nBook now for dinner and drinks booth tables. VIP\, cocktail master classes. Entry tickets are FREE before 7 pm only\, after which the price rises per hour to £12. Happy Hour  DISCOUNTS at the bar 4-8pm\n\nVALID ID ESSENTIAL FOR ENTRY 18+ CARNIVAL COSTUMES ENCOURAGED
URL:https://eventsforlondon.co.uk/event/brazilian-carnival-costume-party-london-uk/
LOCATION:Bar Salsa soho\, 96 Charing cross road\, London\, WC2H 0JG
CATEGORIES:Cheap Tickets,Dance,Events in London,Festivals,Free Events
ATTACH;FMTTYPE=image/jpeg:https://eventsforlondon.co.uk/wp-content/uploads/2025/02/SALSA-CARNIVAL-TAMANOS_105X148-CM-V-e1739277665552.jpg
ORGANIZER;CN="salsa":MAILTO:salsa.charingcross@stonegatepubs.com
GEO:51.5140035;-0.1293326
X-APPLE-STRUCTURED-LOCATION;VALUE=URI;X-ADDRESS=Bar Salsa soho 96 Charing cross road London WC2H 0JG;X-APPLE-RADIUS=500;X-TITLE=96 Charing cross road:geo:-0.1293326,51.5140035
END:VEVENT
BEGIN:VEVENT
DTSTART;TZID=Europe/London:20241215T190000
DTEND;TZID=Europe/London:20241215T220000
DTSTAMP:20260422T004702
CREATED:20241205T185305Z
LAST-MODIFIED:20241205T185305Z
UID:30086428-1734289200-1734300000@eventsforlondon.co.uk
SUMMARY:Not Yet Certified - Gremlins (1984)
DESCRIPTION:💡TANGLED STRING LIGHTS \n🎥 NANNY CAMS \n🎬 FESTIVE ACTION! \n  \nAnother Flawed Production welcomes you to the star-studded\, red rug-stomping premiere of Not Yet Certified- FESTIVE EDITION! A merry movie night entwined with the magic of live performance and cinematic excellence. Get your cut-out popcorn boxes for a night of theatrical frivolity\, interactive titillation and good viewing of the most excellent movies ever. Well\, in my eyes\, anywho. \nI\, Rosacea Blemish\, will be screening the ultimate 80s Christmas classic\, Gremlins (1984) by Jo Dante. But not alone\, I shan’t\, for this very evening\,g I shall be graced with fellow artists of such calibre that an Oscar is simply a suppository; \nAiden Strickland as The Mum \nParis Eatemall as The Leader \nThe Pussy Tamer as That Man \nNat Funni as ??? \n‘A young man inadvertently breaks three important rules concerning his new pet and unleashes a horde of malevolently mischievous monsters on a small town.’ \nAlso\, let’s not forget that this IS a Christmas movie and\, therefore\, mandatory viewing this time of year! \nThroughout this spectacular\, we shall play the entire movie along with some exciting opportunities for our guests to win prizes!!\nOh yes\, we shall be holding a costume competition for the best-adorned vessel about the chosen movie\, as well as a quiz. Thriving in your game playing and to top the box office will have you reap in a bottle of bubbly and 2 free tickets to the next Another Flawed Production event. \nBut what is a movie without snacks?!\nPopcorn will be handed out upon your arrival\, and you are also welcome to bring your own snacks! Please do not bring hot food\, as the venue does not have the licence. If you have a food allergy that will need to limit people’s munching options\, then let the organiser know so this need can be met. \nIMPORTANT INFO \nDate: Sunday 15th December\nTime: Doors – 19:00\, Start – 19:30 pm.\nVenue: The Divine\, 33 Stoker Newington Road\, N16 8BJ
URL:https://eventsforlondon.co.uk/event/not-yet-certified-gremlins-1984/
LOCATION:THE DIVINE\, 33-35 Stoke Newington Rd\,\, London\, N16 8BJ
CATEGORIES:Cheap Tickets,Comedy,Events in London,Films,Movies,Performing Arts
ATTACH;FMTTYPE=image/png:https://eventsforlondon.co.uk/wp-content/uploads/2024/12/outsavvybanner-copy-e1733424718101.png
END:VEVENT
BEGIN:VEVENT
DTSTART;TZID=Europe/London:20241201T150000
DTEND;TZID=Europe/London:20241201T230000
DTSTAMP:20260422T004702
CREATED:20241022T161127Z
LAST-MODIFIED:20241022T161127Z
UID:30084617-1733065200-1733094000@eventsforlondon.co.uk
SUMMARY:Twisted Winter Tea Party
DESCRIPTION:Winter afternoon tea-themed kinky day-to-night event. Fetish/fantasy party. Prosecco Afternoon tea with a twist\, cocktails\, live music\, DJs\, fetish/burlesque\, drag\, comedy\, games\, couples cosy area and more…  \nTwisted Tea party are back to celebrate the festive season!! We are fetish/fantasy-inspired dress-up events. Expect fantastic performances\, delicious food/drinks\, great music and sexy entertainment. Come and indulge yourself at our Winter special\, in collaboration with the fabulous Bitchcraft Wear. They will be doing a fetish/latex fashion show to showcase their unique new designs and brands. We can’t wait to see you X. \nTickets – https://skiddle.com/e/40132303 \nFB event page – Twisted Winter Tea Party \nInsta – @twistedteaparty11 \n@bitchcraftwear \nAmazing Performers\, DJs and Fashion Show. Performances start at 5 pm. More to be added in the next few days. \n– DJ Jamie Moon – Fetish/Club DJ \nFB page – DJ Jamie Moon \nhttps://m.soundcloud.com/dj-jamie-moon \nInsta -@dj.jamie.moon \n– Miss Betsy Rose – International award winning Burlesque Performer. Gin House Burlesque. \nhttps://www.missbetsyrose.com/ \n– DJ Sequinella – Fetish/Club/Carnival DJ \nInsta – @sequinella_ \nBitchcraft Wear – Fetish/Latex Fashion Show \nInsta – @bitchcraftwear \nMiss Lei Lei – Host and Drag King/Performer \nInsta – @miss_lei_lei_ \nDresscode – Fetish/Kink/Sexy/ tea party with a Winter twist. We want our guests to dress to impress\, and these are dress-up events. Fetish\, Costume\, Cosplay\, drag\, latex\, goth\, eccentric and cocktail/evening wear are all welcome. No regular street/sports wear allowed\, please make the effort or no entry. Your imagination and eccentricity are the only limits! \nPrizes for best dressed! \nAll communities are welcome; this is a safe and open space. LGBTQ+ and Kink-friendly. \nCome and indulge yourself at our Winter special; we can’t wait to see you\, X\, \nAfternoon tea must be booked in advance and will only be served between 3 and 5 p.m. Please don’t be late if you book afternoon tea. \nAfternoon tea menu – \nA glass of Prosecco pp (or soft drink) \nCognac mince pies served with Brandy cream \nSelection of finger sandwiches \nSelection of mini cakes/Desserts \nVegan options include vegan mince pies\, vegan sandwiches and vegan cupcakes.
URL:https://eventsforlondon.co.uk/event/twisted-winter-tea-party/
LOCATION:Limehouse Town Hall\, commercial road\, limehouse London
CATEGORIES:Christmas Events,Community Events,Entertainment,Events in London,Fashion,Party
ATTACH;FMTTYPE=image/jpeg:https://eventsforlondon.co.uk/wp-content/uploads/2024/10/HouseOfMCR_@JodyHartley-149-e1729613391675.jpg
GEO:51.5125966;-0.0366866
X-APPLE-STRUCTURED-LOCATION;VALUE=URI;X-ADDRESS=Limehouse Town Hall commercial road limehouse London;X-APPLE-RADIUS=500;X-TITLE=commercial road:geo:-0.0366866,51.5125966
END:VEVENT
BEGIN:VEVENT
DTSTART;TZID=Europe/London:20241130T153000
DTEND;TZID=Europe/London:20241130T163000
DTSTAMP:20260422T004702
CREATED:20241111T121147Z
LAST-MODIFIED:20241111T121147Z
UID:30085548-1732980600-1732984200@eventsforlondon.co.uk
SUMMARY:'The Snowman' film with live orchestra - New Wimbledon Theatre
DESCRIPTION:Make it a Christmas to remember with a very special performance featuring one of the UK’s best-loved and iconic animated films\, The Snowman. \n\n\nPresented by Carrot Productions – the world’s leading performers of The Snowman film with orchestra – the award-winning show is spectacularly brought to life by the UK’s finest musicians. \n\n\n\n\n\nAs a bonus\, this performance will include an additional short film – the world premiere of The Snowman and The Snowdog – again accompanied live by the orchestra. \nThe show also includes a fun\, festive introduction to the orchestra and a visit from the Snowman himself! \n\n\nAfter the performance\, everyone is welcome to meet the musicians\, see their instruments\, and admire their amazing costumes! \n\n\n\n\nThis magical\, festive show – performed within the splendour of Liverpool Cathedral – is perfect for the whole family to enjoy together and will surely create cherished memories. \nSuitable for ages 3-103! \n“Top family things to do at Christmas”\nThe Guardian\, The Sunday Times and The Telegraph
URL:https://eventsforlondon.co.uk/event/the-snowman-film-with-live-orchestra-new-wimbledon-theatre/
LOCATION:New Wimbledon Theatre\, The Broadway\, London\, SW19 1QG
CATEGORIES:Cheap Tickets,Children,Christmas Events,Community Events,Entertainment,Events in London,Family Activities,Films,Live Music,London Musicals,London Theatre,Music
ATTACH;FMTTYPE=image/jpeg:https://eventsforlondon.co.uk/wp-content/uploads/2024/11/THE-SNOWMAN-TITLE-1920-X-1080-e1731327053640.jpg
GEO:51.4194196;-0.2012615
X-APPLE-STRUCTURED-LOCATION;VALUE=URI;X-ADDRESS=New Wimbledon Theatre The Broadway London SW19 1QG;X-APPLE-RADIUS=500;X-TITLE=The Broadway:geo:-0.2012615,51.4194196
END:VEVENT
BEGIN:VEVENT
DTSTART;TZID=Europe/London:20241031T070000
DTEND;TZID=Europe/London:20241031T220000
DTSTAMP:20260422T004702
CREATED:20240929T152043Z
LAST-MODIFIED:20241003T183209Z
UID:30080845-1730358000-1730412000@eventsforlondon.co.uk
SUMMARY:Witch\, Please! Samhain 2: The Ressurection
DESCRIPTION:HAIL TO THE GUARDIANS OF THE QUEERS OF EAST LONDON! I INVOKE THE! \n🔥⚡💧🌱🌪 \nWELCOME MORTALS! \nCome little darlings\, we’ll take you away into to a land of enchantment. \n‘Witch\, Please!’\, a cabaret show based on all things witches\, mystical fantasy and the occult\, across all spectrums. \nOur second Samhain Sabbath will resurrect our coven from a year of slumber\, to prowl the earth when the veil is at it’s most frail. Who knows what the prowess of these priestesses shall bring forth on this special night. \nFrom the Sanderson sisters to the Faits\, Madame Mim to Mildred Hubble\, from Glinda to Dark Willow\, warlocks\, weirdos\, hags and enchantresses\, an array of performances are here to bewitch you into a frenzied state. \nStep into The Divine’s spooky basement filled with treats and tricks. Along side our chaotic coven gathering there will be apple bobbing\, lucky dip trick or treat\, tarot readings and a costume competition. That’s right it’s Halloween and the best costume shall receive extra special prizes.  \nThe question remains; TRICK or TREAT?! \nRosacea Blemish as our Grand High Witch will induct her Samhain sisters; \n-Matt Skully \n-Rodent \n-Lust \n-Juxta Pose \n  \nAfter all magick is not just for Halloween\, but it’s a pretty poignant time for it. \nPlease note this show will include strobing and flashing lights.
URL:https://eventsforlondon.co.uk/event/witch-please-samhain-2-the-ressurection/
LOCATION:THE DIVINE\, 33-35 Stoke Newington Rd\,\, London\, N16 8BJ
CATEGORIES:Dance,Performing Arts,Visual Arts
ATTACH;FMTTYPE=image/jpeg:https://eventsforlondon.co.uk/wp-content/uploads/2024/09/Samhain-2-banner-2-.jpg
END:VEVENT
BEGIN:VEVENT
DTSTART;TZID=Europe/London:20241029T110000
DTEND;TZID=Europe/London:20241029T120000
DTSTAMP:20260422T004702
CREATED:20241011T130751Z
LAST-MODIFIED:20241011T130751Z
UID:30083452-1730199600-1730203200@eventsforlondon.co.uk
SUMMARY:A tour for the curious - Events for Children
DESCRIPTION:Join our interactive family tour of the Palace! \nStep through a secret door and travel back in time as you discover Fulham Palace. Explore the house and historic rooms before continuing your adventure outdoors. Complete challenges\, take in your surroundings and dress the part of a true Palace resident using our costume collection. \nEach stop on this tour features an interactive element encouraging visitors to experience the Palace like never before.
URL:https://eventsforlondon.co.uk/event/a-tour-for-the-curious-events-for-children/
LOCATION:Fulham Palace\, Fulham Palace\, London\, SW6 6EA\, United Kingdom
CATEGORIES:Cheap Tickets,Children,Events in London,Family Activities,History
ATTACH;FMTTYPE=image/jpeg:https://eventsforlondon.co.uk/wp-content/uploads/2024/10/a-tour-for-the-curious-copyright-Fulham-Palace-credit-Nelly-Ali-e1728652017771.jpg
ORGANIZER;CN="Fulham Palace":MAILTO:reception@fulhampalace.org
END:VEVENT
BEGIN:VEVENT
DTSTART;TZID=Europe/London:20241024T190000
DTEND;TZID=Europe/London:20241024T220000
DTSTAMP:20260422T004702
CREATED:20240929T143421Z
LAST-MODIFIED:20240929T143421Z
UID:30081074-1729796400-1729807200@eventsforlondon.co.uk
SUMMARY:Not Yet Certified – A Nightmare On Elm Street (1984)
DESCRIPTION:💡LIGHTS \n🎥 CAMERA \n🎬 SCREEEEAAAAAMMMMMMMM. \n  \nAnother Flawed Production welcomes you to the star studded\, red rug stomping premiere of Not Yet Certified- HALLOWEEN EDITION! A SPOOKY movie night entwined with the magic of live performance and cinematic excellence. Get your cut out ready popcorn boxes for a night of theatrical frivolity\, interactive titillation and a good viewing of the most excellent movies of all time. Well in my eyes anywho. \nI\, Rosacea Blemish shall be screening the 80’S horror classic ‘A Nightmare On Elm Street’ (1984) by Wes Craven. But not alone I shan’t\, for this very evening I shall be graced with fellow artists of such callibor that an Oscar is simply a suppository; \nPatricia Cwunt as Fred Krueger \nIzz’nt She as Freddy Krueger \nMiss Terri Boxx as F. Krueger \n‘Teenager Nancy Thompson must uncover the dark truth concealed by her parents after she and her friends become targets of the spirit of a serial killer with a bladed glove in their dreams\, in which if they die\, it kills them in real life.’ \nThroughout this spectacular we shall play the entire movie along with some excited opportunities for our guests to win prizes!!\nOh yes\, we shall be holding a costume competition for the best adorned vessel in relation to the chosen movie as well as a quiz. Successful in your game playing and to top the box office will have you reap in a bottle of bubbly as well as 2 free tickets to the next Another Flawed Production event. \nBut what is a movie without snacks?!\nPopcorn will be handed out upon your arrival and you are also welcome to bring in your own snacks or even pizza! However if you do have a serve allergy that will need to limit people’s munching options then let the organiser know so this need can be met. \nIMPORTANT INFO \nDate: Thursday 24th October\nTime: Doors – 19:00\, Start – 19:30pm.\nVenue: The Divine\, 33 Stoker Newington Road\, N16 8BJ \nTickets: \n\nSolo Peeper: £10 (nothing wrong with taking yourself out to the movies after all)\nDate night : £16 (treat the lover or friendly folk to a night at the moving pictures at a humble discounted rate)\nFrow Luxe VIP Table :  £60 (Seats 4 to a table and includes premium movie viewing\, a bottle of fizz upon arrival and the luxury of some table space)\nLow Income Tickets: Available upon request\, please contact the organizers to facilitate.\n\nACCESS\nSadly\, The Divine is currently not fully accessible. The cabaret and club space are in the basement of the venue. There are 17 wide steps with slipresistant treads down to the space with sturdy handrails either side. There are two steps up to the stage. The toilets are in the basement and are not accessible for wheelchair users. If you need further information\, please refer to The Divine ‘About’ page on the website. http://www.thedivine.co.uk
URL:https://eventsforlondon.co.uk/event/not-yet-certified-a-nightmare-on-elm-street-1984/
LOCATION:THE DIVINE\, 33-35 Stoke Newington Rd\,\, London\, N16 8BJ
CATEGORIES:Cheap Tickets,Entertainment,Events in London,Films,Movies,Performing Arts
ATTACH;FMTTYPE=image/png:https://eventsforlondon.co.uk/wp-content/uploads/2024/09/outsavvy-banner.png
END:VEVENT
BEGIN:VEVENT
DTSTART;TZID=Europe/London:20240518T120000
DTEND;TZID=Europe/London:20240518T130000
DTSTAMP:20260422T004702
CREATED:20240411T030249Z
LAST-MODIFIED:20240411T030249Z
UID:30066946-1716033600-1716037200@eventsforlondon.co.uk
SUMMARY:‘My Cultural Style’ Children's Fashion Show - Cultural Style Week
DESCRIPTION:Mark your calendars! The ‘My Cultural Style’ Children’s Fashion Show will take place at the Cultural Style Week London Expo on Saturday 18 May\, at the Mall Wood Green\, in the heart of North London. \nCultural Style Week is an exciting week-long event that promises to get everyone talking about culture. It’s that one week in the year when people from all backgrounds are encouraged to wear their heritage! From 21-27 May\, People from all over the world are encouraged to participate and take part wherever they are by proudly wearing their cultural styles across the week\, and sharing their pictures online with the tag #culturalstyleweek to connect and share with others. \nFor the ‘My Cultural Style Children’s Fashion Show’ we will use cultural fashion as a platform for engaging through diversity. Our focus this year is on fostering a greater sense of belonging for children from diaspora and refugee communities\, while celebrating the diversity that makes our world so special. Our young participants will take to the runway\, sharing their cultural clothing and talking about what it means to them. \nThere will also be cultural dance performances\, spoken word and more! Our shows are visually spectacular\, but also educational and empowering. Plus it’s lots of fun for everyone taking part. \nCalling all children aged between four and seventeen. \nIf you are aged between four and sixteen\, grab your cultural clothing and join us on the runway! Participation is absolutely free\, and families are encouraged to participate together. We also welcome a variety of children’s performances\, so let your talents shine! To sign up\, please click here. \nDate: Saturday 18 May 2024 \nTime: 12pm -1pm \nLocation: Mall Wood Green\, 159 High Rd\, London N22 6YQ \nEntry: Free
URL:https://eventsforlondon.co.uk/event/my-cultural-style-childrens-fashion-show-cultural-style-week/
LOCATION:Mall Wood Green\, 159 High Rd\, London\, N22 6YQ
CATEGORIES:Arts,Children,Design,Entertainment,Events in London,Family Activities,Fashion
ATTACH;FMTTYPE=image/png:https://eventsforlondon.co.uk/wp-content/uploads/2024/04/Post-Pics-.png
END:VEVENT
END:VCALENDAR