BEGIN:VCALENDAR
VERSION:2.0
PRODID:-//Events for LONDON - ECPv6.15.20//NONSGML v1.0//EN
CALSCALE:GREGORIAN
METHOD:PUBLISH
X-WR-CALNAME:Events for LONDON
X-ORIGINAL-URL:https://eventsforlondon.co.uk
X-WR-CALDESC:Events for Events for LONDON
REFRESH-INTERVAL;VALUE=DURATION:PT1H
X-Robots-Tag:noindex
X-PUBLISHED-TTL:PT1H
BEGIN:VTIMEZONE
TZID:Europe/London
BEGIN:DAYLIGHT
TZOFFSETFROM:+0000
TZOFFSETTO:+0100
TZNAME:BST
DTSTART:20250330T010000
END:DAYLIGHT
BEGIN:STANDARD
TZOFFSETFROM:+0100
TZOFFSETTO:+0000
TZNAME:GMT
DTSTART:20251026T010000
END:STANDARD
BEGIN:DAYLIGHT
TZOFFSETFROM:+0000
TZOFFSETTO:+0100
TZNAME:BST
DTSTART:20260329T010000
END:DAYLIGHT
BEGIN:STANDARD
TZOFFSETFROM:+0100
TZOFFSETTO:+0000
TZNAME:GMT
DTSTART:20261025T010000
END:STANDARD
BEGIN:DAYLIGHT
TZOFFSETFROM:+0000
TZOFFSETTO:+0100
TZNAME:BST
DTSTART:20270328T010000
END:DAYLIGHT
BEGIN:STANDARD
TZOFFSETFROM:+0100
TZOFFSETTO:+0000
TZNAME:GMT
DTSTART:20271031T010000
END:STANDARD
END:VTIMEZONE
BEGIN:VEVENT
DTSTART;TZID=Europe/London:20260426T190000
DTEND;TZID=Europe/London:20260426T233000
DTSTAMP:20260423T223423
CREATED:20260310T060948Z
LAST-MODIFIED:20260310T060948Z
UID:30120481-1777230000-1777246200@eventsforlondon.co.uk
SUMMARY:Jasmine Quartet presents: JOYRIDE
DESCRIPTION:Join the Jasmine Quartet for an innovative\, electrifying celebration of joy as a radical action. Featuring three world premieres by emerging UK composers + Paul Wiancko’s exhilarating contemporary masterwork LIFT\, followed by an afterparty DJ set by Maiyanaya. \nThrough exuberant performances of groundbreaking repertoire\, the Jasmine Quartet brings contemporary classical music into new & unorthodox spaces\, reframing the string quartet for the 21st century and advocating passionately for classical music’s most exciting emerging voices. \nDelyth Field / Maiyanaya is a Japanese-Welsh composer and creative technologist whose work spans concert music\, film scoring\, electronic music\, and audiovisual media. She is also an avid DJ – a recent set includes an experimental set at Copeland gallery. \nThis event is made possible through the generous support of the Hinrichsen Foundation. \nProgramme \nJames Madrilejo Cyclic\nZygmund de Somogyi String Quartet\, No. 3 – JOYRIDE\nThomas Shorthouse charms\, trinkets & offerings\nPaul Wiancko LIFT
URL:https://eventsforlondon.co.uk/event/jasmine-quartet-presents-joyride/
LOCATION:Folklore\, 186 Hackney Road\, London\, E2 7QL
CATEGORIES:Events in London,Gigs,Live Music,Music,Performing Arts
ATTACH;FMTTYPE=image/png:https://eventsforlondon.co.uk/wp-content/uploads/2026/03/JOYRIDE-Square-1080-x-1080px-1.png
END:VEVENT
BEGIN:VEVENT
DTSTART;TZID=Europe/London:20260428T130000
DTEND;TZID=Europe/London:20260428T140000
DTSTAMP:20260423T223423
CREATED:20260309T133708Z
LAST-MODIFIED:20260309T133708Z
UID:30120020-1777381200-1777384800@eventsforlondon.co.uk
SUMMARY:University of Cambridge Showcase
DESCRIPTION:A showcase of some of the exceptional young musicians currently studying at the University of Cambridge. \nThe programme includes performances by members of the University’s Instrumental Awards for Chamber Music and Lieder schemes\, which foster excellence in chamber music and art song.
URL:https://eventsforlondon.co.uk/event/university-of-cambridge-showcase/
LOCATION:Wigmore Hall\, 36 Wigmore Street\, London\, W1U 2BP\, United Kingdom
CATEGORIES:Cheap Tickets,Concerts,Entertainment,Events in London,Gigs,Live Music,Movies
ATTACH;FMTTYPE=image/jpeg:https://eventsforlondon.co.uk/wp-content/uploads/2026/03/RS51434_University-of-Cambridge-Showcase1_web-1-e1773063377520.jpg
ORGANIZER;CN="Wigmore Hall":MAILTO:boxoffice@wigmore-hall.org.uk
GEO:51.5166232;-0.1482304
X-APPLE-STRUCTURED-LOCATION;VALUE=URI;X-ADDRESS=Wigmore Hall 36 Wigmore Street London W1U 2BP United Kingdom;X-APPLE-RADIUS=500;X-TITLE=36 Wigmore Street:geo:-0.1482304,51.5166232
END:VEVENT
BEGIN:VEVENT
DTSTART;TZID=Europe/London:20260605T183000
DTEND;TZID=Europe/London:20260605T200000
DTSTAMP:20260423T223423
CREATED:20260423T132422Z
LAST-MODIFIED:20260423T140215Z
UID:30126037-1780684200-1780689600@eventsforlondon.co.uk
SUMMARY:Tales of Passion and Joy - Concert - Piano Quintets
DESCRIPTION:Vaughan Williams: Piano Quintet in C minor \nSchubert: Piano Quintet in A major D. 667 “The Trout” \nThis programme pairs the Piano Quintet in C minor by Ralph Vaughan Williams with the Piano Quintet in A major\, D. 667 (“Trout”) by Franz Schubert\, offering a focused exploration of how composers have reimagined the piano quintet across time. \nSchubert’s “Trout” Quintet (1819) is notable for its unusual scoring\, replacing the second violin with double bass. This creates a lighter\, more transparent texture and allows the piano to function as an equal partner rather than a dominant voice. The famous variation movement on his song Die Forelle reflects Schubert’s gift for lyricism and clarity of form. \nVaughan Williams’ Piano Quintet (1903) adopts the same instrumentation but produces a markedly different sound world. Richer and more expansive in texture\, it reflects his early engagement with late Romantic style alongside emerging traits of his mature voice\, including modal harmony and broad\, song-like themes. \nTogether\, these works highlight both continuity and contrast: a shared interest in instrumental balance\, but distinct approaches to texture\, form\, and pastoral expression. Schubert’s music evokes lightness and movement\, while Vaughan Williams offers a more reflective and spacious soundscape. Heard side by side\, they present the piano quintet as a flexible and evolving genre. \n  \nClassical Concert Pianists are available for private recitals in London & the rest of the UK via Music for London.
URL:https://eventsforlondon.co.uk/event/tales-of-passion-and-joy-concert-piano-quintets/
LOCATION:St Annes Church Kew\, St Anne’s Church Kew Green\, TW9 3AA\, United Kingdom
CATEGORIES:Cheap Tickets,Concerts,Live Music
ATTACH;FMTTYPE=image/jpeg:https://eventsforlondon.co.uk/wp-content/uploads/2026/04/passion-and-joy-eventbrite.jpg
ORGANIZER;CN="zoffany ensemble":MAILTO:dorothy@dorothymaxwell.co.uk
END:VEVENT
BEGIN:VEVENT
DTSTART;TZID=Europe/London:20260606T110000
DTEND;TZID=Europe/London:20260606T123000
DTSTAMP:20260423T223423
CREATED:20260423T135329Z
LAST-MODIFIED:20260423T140044Z
UID:30126038-1780743600-1780749000@eventsforlondon.co.uk
SUMMARY:Marmalade and Masquerades - Live Performance with Narration
DESCRIPTION:Marmalade and Masquerades \nAndré Caplet: Conte Fantastique (1922) after Edgar Allan Poe’s The Masque of the Red Death\, for harp\, narrator and string quartet. Story adapted by Erin Muldoon. \nHerbert Chappell: Paddington’s First Concert (mid-1970s)\, arranged for the same ensemble by Roger Montgomery. \nTravel from the familiar warmth of 32\, Windsor Gardens\, home to London’s favourite bear\, into the shadowy world of Edgar Allan Poe’s The Masque of the Red Death. This imaginative programme brings together two contrasting tales\, showing how music can express both light and dark\, comfort and mystery. \nThrough engaging live performance with narration\, children and families will discover how composers use sound to tell stories. Some feel cosy\, playful\, and curious. Others are dramatic\, eerie and full of suspense. Each invites listeners to picture characters\, places and emotions in their own way. \nOn one side\, Paddington Bear’s world is brought to life through music that celebrates kindness\, humour and small everyday adventures. On the other hand\, André Caplet’s Conte Fantastique draws us into a darker\, more mysterious atmosphere\, inspired by Poe’s haunting tale of Prince Prospero’s abbey. \nPlaced side by side\, these works reveal how music can spark imagination across very different moods and stories. Together\, they offer a rich and memorable introduction to the power of musical storytelling. \nTo Hire String Quartets  & Harpists in London for Private and Corporate Events\, visit Music for London.
URL:https://eventsforlondon.co.uk/event/marmalade-and-masquerades-live-performance-with-narration/
LOCATION:St Annes Church Kew\, St Anne’s Church Kew Green\, TW9 3AA\, United Kingdom
CATEGORIES:Children,Concerts,Family Activities,Free Events,Literature,Live Music,Teenagers
ATTACH;FMTTYPE=image/jpeg:https://eventsforlondon.co.uk/wp-content/uploads/2026/04/Marmalade-eventbrite-2-1-e1776952110262.jpg
ORGANIZER;CN="zoffany ensemble":MAILTO:dorothy@dorothymaxwell.co.uk
END:VEVENT
BEGIN:VEVENT
DTSTART;TZID=Europe/London:20260718T130000
DTEND;TZID=Europe/London:20260718T140000
DTSTAMP:20260423T223423
CREATED:20260319T122511Z
LAST-MODIFIED:20260319T122511Z
UID:30120488-1784379600-1784383200@eventsforlondon.co.uk
SUMMARY:Relaxed Concert: Imagine Series - Wigmore Hall Concerts
DESCRIPTION:Join us for a relaxed\, multi-sensory concert experience. \nThis concert is part of our Imagine Series: a series of afternoon concerts at Wigmore Hall designed for a neurodiverse audience. However\, everyone is welcome to experience the unique and calm atmosphere. \nFor more information\, visit the Wigmore Hall website: \n\nLow Stimulus Concerts for Young People | Wigmore Hall\nFAQ\nAccess
URL:https://eventsforlondon.co.uk/event/relaxed-concert-imagine-series-wigmore-hall-concerts/
LOCATION:Wigmore Hall\, 36 Wigmore Street\, London\, W1U 2BP\, United Kingdom
CATEGORIES:Cheap Tickets,Concerts,Events in London,Live Music,Music
ATTACH;FMTTYPE=image/jpeg:https://eventsforlondon.co.uk/wp-content/uploads/2026/03/RS3958_f_KK_03907_2_web-e1773923087376.jpg
ORGANIZER;CN="Wigmore Hall":MAILTO:boxoffice@wigmore-hall.org.uk
GEO:51.5166232;-0.1482304
X-APPLE-STRUCTURED-LOCATION;VALUE=URI;X-ADDRESS=Wigmore Hall 36 Wigmore Street London W1U 2BP United Kingdom;X-APPLE-RADIUS=500;X-TITLE=36 Wigmore Street:geo:-0.1482304,51.5166232
END:VEVENT
END:VCALENDAR