BEGIN:VCALENDAR
VERSION:2.0
PRODID:-//Events for LONDON - ECPv6.15.20//NONSGML v1.0//EN
CALSCALE:GREGORIAN
METHOD:PUBLISH
X-WR-CALNAME:Events for LONDON
X-ORIGINAL-URL:https://eventsforlondon.co.uk
X-WR-CALDESC:Events for Events for LONDON
REFRESH-INTERVAL;VALUE=DURATION:PT1H
X-Robots-Tag:noindex
X-PUBLISHED-TTL:PT1H
BEGIN:VTIMEZONE
TZID:Europe/London
BEGIN:DAYLIGHT
TZOFFSETFROM:+0000
TZOFFSETTO:+0100
TZNAME:BST
DTSTART:20250330T010000
END:DAYLIGHT
BEGIN:STANDARD
TZOFFSETFROM:+0100
TZOFFSETTO:+0000
TZNAME:GMT
DTSTART:20251026T010000
END:STANDARD
BEGIN:DAYLIGHT
TZOFFSETFROM:+0000
TZOFFSETTO:+0100
TZNAME:BST
DTSTART:20260329T010000
END:DAYLIGHT
BEGIN:STANDARD
TZOFFSETFROM:+0100
TZOFFSETTO:+0000
TZNAME:GMT
DTSTART:20261025T010000
END:STANDARD
BEGIN:DAYLIGHT
TZOFFSETFROM:+0000
TZOFFSETTO:+0100
TZNAME:BST
DTSTART:20270328T010000
END:DAYLIGHT
BEGIN:STANDARD
TZOFFSETFROM:+0100
TZOFFSETTO:+0000
TZNAME:GMT
DTSTART:20271031T010000
END:STANDARD
END:VTIMEZONE
BEGIN:VEVENT
DTSTART;TZID=Europe/London:20260424T110000
DTEND;TZID=Europe/London:20260426T180000
DTSTAMP:20260424T232109
CREATED:20250506T104443Z
LAST-MODIFIED:20250507T131859Z
UID:30094794-1777028400-1777226400@eventsforlondon.co.uk
SUMMARY:Women in Art Fair
DESCRIPTION:An annual art fair that celebrates the work of women and those identifying as women. \nHeld this year at the smaller gallery@oxo venue\, the Fair will focus on showcasing Open Call artists whose work has been selected from thousands of entries.   \nThis year’s Fair is free to all and has a free talks programme with high profile speakers including founder of FAMM (Femmes Artistes due Musée Mougins)\, Christian Levett and Hall Rockefeller\, founder of Less Than Half\, a movement for women interested in art. \nA new Women in Art Fair prize launches this year\, supported this year by Fladgate\, a law firm with a strong diversity and inclusivity programme\, with the winners’ work on show at the Fair.
URL:https://eventsforlondon.co.uk/event/women-in-art-fair-2/2026-04-24/
LOCATION:gallery@oxo\, Barge House Street\, London\, SE1 9PH\, United Kingdom
CATEGORIES:Arts,Photography,Sculpture
ATTACH;FMTTYPE=image/jpeg:https://eventsforlondon.co.uk/wp-content/uploads/2025/05/overview-image.jpg
ORGANIZER;CN="Women in Art Fair":MAILTO:info@womeninartfair.com
GEO:51.5082611;-0.1084354
X-APPLE-STRUCTURED-LOCATION;VALUE=URI;X-ADDRESS=gallery@oxo Barge House Street London SE1 9PH United Kingdom;X-APPLE-RADIUS=500;X-TITLE=Barge House Street:geo:-0.1084354,51.5082611
END:VEVENT
BEGIN:VEVENT
DTSTART;TZID=Europe/London:20260529T170000
DTEND;TZID=Europe/London:20260531T170000
DTSTAMP:20260424T232109
CREATED:20250929T190624Z
LAST-MODIFIED:20250929T190624Z
UID:30108230-1780074000-1780246800@eventsforlondon.co.uk
SUMMARY:Untitled Artists Fair
DESCRIPTION:Register now for Free Tickets! Established in 2007 as the UK’s Largest Artists’ Fair\, Untitled is artist-founded and owned\, with as many as 170 exhibitors selling direct and commission-free.\nWe welcome you back for our next event from Friday 5th to Sunday 7th September at the Chelsea Old Town Hall on the world-famous King’s Road. Our highly successful and dynamic event averages 5\,000 visits over 3 days\, so be sure to subscribe for free tickets. \n\nEnjoy a relaxed environment where experienced collectors and art-loving newcomers alike can browse leisurely for the perfect piece. \nNo Galleries or Agents are permitted; therefore\, all sales income goes directly to the Artist\, offering clients the opportunity to make directly informed and greatly discounted purchases. \nOur opening times are:\nFriday 5th September – Private View 5pm – 9pm (By Invitation)\nSaturday 6th September – 11am – 6pm\nSunday 7th September – 11am – 5pm \nPlease do not hesitate to contact us with any questions as we would be happy to help.
URL:https://eventsforlondon.co.uk/event/untitled-artists-fair-2/
LOCATION:Chelsea Old Town Hall\, London
CATEGORIES:Arts,Crafts,Digital Arts,Events in London,Photography,Sculpture,Visual Arts
ATTACH;FMTTYPE=image/jpeg:https://eventsforlondon.co.uk/wp-content/uploads/2025/09/ART-RABBIT-UNTITLED-ARTISTS-FAIR.jpg
ORGANIZER;CN="@untitledartistfair":MAILTO:info@untitled-gallery.co.uk
GEO:51.5073509;-0.1277583
END:VEVENT
END:VCALENDAR