BEGIN:VCALENDAR
VERSION:2.0
PRODID:-//Events for LONDON - ECPv6.15.20//NONSGML v1.0//EN
CALSCALE:GREGORIAN
METHOD:PUBLISH
X-WR-CALNAME:Events for LONDON
X-ORIGINAL-URL:https://eventsforlondon.co.uk
X-WR-CALDESC:Events for Events for LONDON
REFRESH-INTERVAL;VALUE=DURATION:PT1H
X-Robots-Tag:noindex
X-PUBLISHED-TTL:PT1H
BEGIN:VTIMEZONE
TZID:Europe/London
BEGIN:DAYLIGHT
TZOFFSETFROM:+0000
TZOFFSETTO:+0100
TZNAME:BST
DTSTART:20250330T010000
END:DAYLIGHT
BEGIN:STANDARD
TZOFFSETFROM:+0100
TZOFFSETTO:+0000
TZNAME:GMT
DTSTART:20251026T010000
END:STANDARD
BEGIN:DAYLIGHT
TZOFFSETFROM:+0000
TZOFFSETTO:+0100
TZNAME:BST
DTSTART:20260329T010000
END:DAYLIGHT
BEGIN:STANDARD
TZOFFSETFROM:+0100
TZOFFSETTO:+0000
TZNAME:GMT
DTSTART:20261025T010000
END:STANDARD
BEGIN:DAYLIGHT
TZOFFSETFROM:+0000
TZOFFSETTO:+0100
TZNAME:BST
DTSTART:20270328T010000
END:DAYLIGHT
BEGIN:STANDARD
TZOFFSETFROM:+0100
TZOFFSETTO:+0000
TZNAME:GMT
DTSTART:20271031T010000
END:STANDARD
END:VTIMEZONE
BEGIN:VEVENT
DTSTART;TZID=Europe/London:20260503T110000
DTEND;TZID=Europe/London:20260503T160000
DTSTAMP:20260423T210441
CREATED:20260219T074344Z
LAST-MODIFIED:20260219T074344Z
UID:30119073-1777806000-1777824000@eventsforlondon.co.uk
SUMMARY:Go Green Fest
DESCRIPTION:Join our annual springtime celebration of gardening\, biodiversity and community. \nStep into a world of greenery at go green fest\, our newly refreshed family festival at Fulham Palace. Previously known as the green meet\, the event has been reimagined as a hands-on day of discovery\, play and inspiration for all ages. \nThis year’s theme is do it yourself. From growing your own food and making simple eco-friendly crafts to learning how nature thrives in our garden\, go green fest is all about encouraging small everyday actions and inspiring big ideas for the future.
URL:https://eventsforlondon.co.uk/event/go-green-fest/
LOCATION:Fulham Palace\, Fulham Palace\, London\, SW6 6EA\, United Kingdom
CATEGORIES:Cheap Tickets,Environment,Events in London,Family Activities,Festivals,Museums
ATTACH;FMTTYPE=image/jpeg:https://eventsforlondon.co.uk/wp-content/uploads/2026/02/Fulham-Palace-green-meet-credit-e-brudi-111-e1771487008674.jpg
ORGANIZER;CN="Fulham Palace":MAILTO:reception@fulhampalace.org
END:VEVENT
END:VCALENDAR